BEGIN:VCALENDAR
VERSION:2.0
PRODID:-//www.hdreach.org//NONSGML kigkonsult.se iCalcreator 2.30.10//
CALSCALE:GREGORIAN
METHOD:PUBLISH
UID:b97b43ac-43b1-4c8e-8238-2ce8fd6af771
X-WR-CALDESC:We’ll have breakout sessions for everyone in the HD community\
 , from those living with HD\, those at-risk for the disease\, HD caregiver
 s\, and youth. You won’t want to miss this educational conference packed w
 ith practical information.\n\n\n
X-WR-RELCALID:cec0c436cd510764733f8692cb98e26d
X-WR-TIMEZONE:America/New_York
BEGIN:VTIMEZONE
TZID:America/New_York
BEGIN:STANDARD
TZNAME:EST
DTSTART:20191103T020000
TZOFFSETFROM:-0400
TZOFFSETTO:-0500
RDATE:20201101T020000
END:STANDARD
BEGIN:DAYLIGHT
TZNAME:EDT
DTSTART:20200308T020000
TZOFFSETFROM:-0500
TZOFFSETTO:-0400
RDATE:20210314T020000
END:DAYLIGHT
END:VTIMEZONE
BEGIN:VEVENT
UID:d586bf94-f82f-46c3-a6be-36d2b295242b
DTSTAMP:20260421T123615Z
DESCRIPTION:We’ll have breakout sessions for everyone in the HD community\,
  from those living with HD\, those at-risk for the disease\, HD caregivers
 \, and youth. You won’t want to miss this educational conference packed wi
 th practical information.\n\n\n
DTSTART;TZID=America/New_York:20200418T000000
DTEND;TZID=America/New_York:20200418T235900
LOCATION:Virtual
SUMMARY:2020 Education Day
END:VEVENT
END:VCALENDAR
