BEGIN:VCALENDAR
VERSION:2.0
PRODID:-//www.hdreach.org//NONSGML kigkonsult.se iCalcreator 2.30.10//
CALSCALE:GREGORIAN
METHOD:PUBLISH
UID:ea333a5d-7008-4efc-81f6-4219a7a1043e
X-WR-CALDESC:
X-WR-RELCALID:74ce16d27f0c777cadf03589e2ee3136
X-WR-TIMEZONE:America/New_York
BEGIN:VTIMEZONE
TZID:America/New_York
BEGIN:STANDARD
TZNAME:EST
DTSTART:20191103T020000
TZOFFSETFROM:-0400
TZOFFSETTO:-0500
RDATE:20201101T020000
END:STANDARD
BEGIN:DAYLIGHT
TZNAME:EDT
DTSTART:20200308T020000
TZOFFSETFROM:-0500
TZOFFSETTO:-0400
RDATE:20210314T020000
END:DAYLIGHT
END:VTIMEZONE
BEGIN:VEVENT
UID:67679116-a574-44d6-a1d6-17b636ef5619
DTSTAMP:20260421T123851Z
DESCRIPTION:
DTSTART;TZID=America/New_York:20200416T190000
DTEND;TZID=America/New_York:20200416T203000
LOCATION:2409 Crabtree Blvd\, Ste 107\, Raleigh NC 27604
SUMMARY:Triangle HD Reach HDSA SG
END:VEVENT
END:VCALENDAR
