BEGIN:VCALENDAR
VERSION:2.0
PRODID:-//www.hdreach.org//NONSGML kigkonsult.se iCalcreator 2.30.10//
CALSCALE:GREGORIAN
METHOD:PUBLISH
UID:54f59991-e03e-464a-8e0f-f984d2d6ccb9
X-WR-CALDESC:
X-WR-RELCALID:68caa091613979ca64f39c1a18deaea3
X-WR-TIMEZONE:America/New_York
BEGIN:VTIMEZONE
TZID:America/New_York
BEGIN:STANDARD
TZNAME:EST
DTSTART:20191103T020000
TZOFFSETFROM:-0400
TZOFFSETTO:-0500
RDATE:20201101T020000
END:STANDARD
BEGIN:DAYLIGHT
TZNAME:EDT
DTSTART:20200308T020000
TZOFFSETFROM:-0500
TZOFFSETTO:-0400
RDATE:20210314T020000
END:DAYLIGHT
END:VTIMEZONE
BEGIN:VEVENT
UID:c0e4d089-9531-4868-800a-d445639bcc9f
DTSTAMP:20260421T123803Z
DESCRIPTION:
DTSTART;TZID=America/New_York:20200407T153000
DTEND;TZID=America/New_York:20200407T173000
LOCATION:Winston-Salem Senior Services Center 231 Melrose Street Winston-Sa
 lem\, North Carolina
SUMMARY:Triad HD Reach HDSA SG
END:VEVENT
END:VCALENDAR
