BEGIN:VCALENDAR
VERSION:2.0
PRODID:-//www.hdreach.org//NONSGML kigkonsult.se iCalcreator 2.30.10//
CALSCALE:GREGORIAN
METHOD:PUBLISH
UID:1814a29d-e9d5-43ed-b8c3-7ef3ee8b66fc
X-WR-CALDESC:
X-WR-RELCALID:a406c795b57202e9d3959d8db9bc5b1e
X-WR-TIMEZONE:America/New_York
BEGIN:VTIMEZONE
TZID:America/New_York
BEGIN:STANDARD
TZNAME:EST
DTSTART:20191103T020000
TZOFFSETFROM:-0400
TZOFFSETTO:-0500
RDATE:20201101T020000
END:STANDARD
BEGIN:DAYLIGHT
TZNAME:EDT
DTSTART:20190310T020000
TZOFFSETFROM:-0500
TZOFFSETTO:-0400
RDATE:20200308T020000
RDATE:20210314T020000
END:DAYLIGHT
END:VTIMEZONE
BEGIN:VEVENT
UID:87bc4450-d20b-4a81-b1f1-9565e1462966
DTSTAMP:20260421T165602Z
DESCRIPTION:
DTSTART;TZID=America/New_York:20200128T180000
DTEND;TZID=America/New_York:20200128T193000
LOCATION:Brighton Gardens of Charlotte\, 6000 Park South Drive\, Charlotte\
 , NC 28210
SUMMARY:Charlotte HD Reach HDSA SG
END:VEVENT
END:VCALENDAR
