BEGIN:VCALENDAR
VERSION:2.0
PRODID:-//www.hdreach.org//NONSGML kigkonsult.se iCalcreator 2.30.10//
CALSCALE:GREGORIAN
METHOD:PUBLISH
UID:75a50104-eae5-4a44-83d7-7bdabc6ef41c
X-WR-CALDESC:
X-WR-RELCALID:1bc64aa11efad06f4acf63e498089f64
X-WR-TIMEZONE:America/New_York
BEGIN:VTIMEZONE
TZID:America/New_York
BEGIN:STANDARD
TZNAME:EST
DTSTART:20191103T020000
TZOFFSETFROM:-0400
TZOFFSETTO:-0500
RDATE:20201101T020000
END:STANDARD
BEGIN:DAYLIGHT
TZNAME:EDT
DTSTART:20190310T020000
TZOFFSETFROM:-0500
TZOFFSETTO:-0400
RDATE:20200308T020000
RDATE:20210314T020000
END:DAYLIGHT
END:VTIMEZONE
BEGIN:VEVENT
UID:3bbaf95a-d5d6-4d35-b9d4-6447d6aca373
DTSTAMP:20260421T165443Z
DESCRIPTION:
DTSTART;TZID=America/New_York:20200107T153000
DTEND;TZID=America/New_York:20200107T173000
LOCATION:Winston-Salem Senior Services Center 231 Melrose Street Winston-Sa
 lem\, North Carolina
SUMMARY:Triad HD Reach HDSA SG
END:VEVENT
END:VCALENDAR
