BEGIN:VCALENDAR
VERSION:2.0
PRODID:-//www.hdreach.org//NONSGML kigkonsult.se iCalcreator 2.30.10//
CALSCALE:GREGORIAN
METHOD:PUBLISH
UID:d963a7ed-257e-4f9f-9c90-fad8407662a5
X-WR-CALDESC:Join us at the Triad  Holiday Party! We hope to see you there!
 \n\nJoin us for an afternoon of connection\, support and fun! Next month w
 e will be celebrating the holidays over a pizza dinner! Bring your friends
  and family who are curious to learn! \n\nIf you plan to attend\, please R
 SVP to Charlene at chudson@hdreach.org. \nOur support groups send a messag
 e of hope for living well with HD.  Come learn\, share and be uplifted whi
 le helping others! \nYou won't want to miss this one!
X-WR-RELCALID:d01536401ced95b51e6014e4e65daea4
X-WR-TIMEZONE:America/New_York
BEGIN:VTIMEZONE
TZID:America/New_York
BEGIN:STANDARD
TZNAME:EST
DTSTART:20191103T020000
TZOFFSETFROM:-0400
TZOFFSETTO:-0500
RDATE:20201101T020000
END:STANDARD
BEGIN:DAYLIGHT
TZNAME:EDT
DTSTART:20190310T020000
TZOFFSETFROM:-0500
TZOFFSETTO:-0400
RDATE:20200308T020000
RDATE:20210314T020000
END:DAYLIGHT
END:VTIMEZONE
BEGIN:VEVENT
UID:8519b41c-b2ed-4cdc-b076-817d53fe9282
DTSTAMP:20260421T182731Z
DESCRIPTION:Join us at the Triad  Holiday Party! We hope to see you there!
 \n\nJoin us for an afternoon of connection\, support and fun! Next month w
 e will be celebrating the holidays over a pizza dinner! Bring your friends
  and family who are curious to learn! \n\nIf you plan to attend\, please R
 SVP to Charlene at chudson@hdreach.org. \nOur support groups send a messag
 e of hope for living well with HD.  Come learn\, share and be uplifted whi
 le helping others! \nYou won't want to miss this one!
DTSTART;TZID=America/New_York:20191203T153000
DTEND;TZID=America/New_York:20191203T173000
LOCATION:Marios Pizza\, 2205 Cloverdale Ave\, Winston-Salem\, NC 27103
SUMMARY:Triad HD Reach HDSA Holiday Party!
END:VEVENT
END:VCALENDAR
