BEGIN:VCALENDAR
VERSION:2.0
PRODID:-//www.hdreach.org//NONSGML kigkonsult.se iCalcreator 2.30.10//
CALSCALE:GREGORIAN
METHOD:PUBLISH
UID:b0aaa29f-0c01-4961-8f0c-336fd1a04d28
X-WR-CALDESC:
X-WR-RELCALID:9ce3152803067a1992bf87683f18cef8
X-WR-TIMEZONE:America/New_York
BEGIN:VTIMEZONE
TZID:America/New_York
BEGIN:STANDARD
TZNAME:EST
DTSTART:20191103T020000
TZOFFSETFROM:-0400
TZOFFSETTO:-0500
RDATE:20201101T020000
END:STANDARD
BEGIN:DAYLIGHT
TZNAME:EDT
DTSTART:20190310T020000
TZOFFSETFROM:-0500
TZOFFSETTO:-0400
RDATE:20200308T020000
RDATE:20210314T020000
END:DAYLIGHT
END:VTIMEZONE
BEGIN:VEVENT
UID:10c55b3d-fc10-46f3-b689-5c992e83b748
DTSTAMP:20260421T201214Z
DESCRIPTION:
DTSTART;TZID=America/New_York:20191126T180000
DTEND;TZID=America/New_York:20191126T193000
LOCATION:Brighton Gardens of Charlotte\, 6000 Park South Drive\, Charlotte\
 , NC 28210
SUMMARY:Charlotte HD Reach HDSA SG
END:VEVENT
END:VCALENDAR
