BEGIN:VCALENDAR
VERSION:2.0
PRODID:-//www.hdreach.org//NONSGML kigkonsult.se iCalcreator 2.30.10//
CALSCALE:GREGORIAN
METHOD:PUBLISH
UID:4cd94eb3-1fb2-46b2-a618-10bd880661c1
X-WR-CALDESC:
X-WR-RELCALID:ad354bd785f2364e30a9acd6da45798f
X-WR-TIMEZONE:America/New_York
BEGIN:VTIMEZONE
TZID:America/New_York
BEGIN:STANDARD
TZNAME:EST
DTSTART:20191103T020000
TZOFFSETFROM:-0400
TZOFFSETTO:-0500
RDATE:20201101T020000
END:STANDARD
BEGIN:DAYLIGHT
TZNAME:EDT
DTSTART:20190310T020000
TZOFFSETFROM:-0500
TZOFFSETTO:-0400
RDATE:20200308T020000
RDATE:20210314T020000
END:DAYLIGHT
END:VTIMEZONE
BEGIN:VEVENT
UID:a2b70ce6-80e1-4850-a33e-9d0dcbf5d537
DTSTAMP:20260421T200701Z
DESCRIPTION:
DTSTART;TZID=America/New_York:20191125T093000
DTEND;TZID=America/New_York:20191125T153000
LOCATION:HD Reach\, Raleigh NC
SUMMARY:NC HD Education Day
END:VEVENT
END:VCALENDAR
