BEGIN:VCALENDAR
VERSION:2.0
PRODID:-//www.hdreach.org//NONSGML kigkonsult.se iCalcreator 2.30.10//
CALSCALE:GREGORIAN
METHOD:PUBLISH
UID:55cf5cea-a25b-4682-ab57-a2e4317c7a23
X-WR-CALDESC:Join us for a 'virtual' support group meeting!\nHD Room\, ever
 y Wednesday at 4:00 pm ET\nJoin from computer: https://PMDAlliance.zoom.us
 /j/769346544\nOr Telephone:\nDial: +1 408 638 0968 (US Toll) or +1 646 558
  8656 (US Toll)\nMeeting ID: 769 346 544
X-WR-RELCALID:fe3e0723805d61dfa4e70513910caf8a
X-WR-TIMEZONE:America/New_York
BEGIN:VTIMEZONE
TZID:America/New_York
BEGIN:STANDARD
TZNAME:EST
DTSTART:20181104T020000
TZOFFSETFROM:-0400
TZOFFSETTO:-0500
RDATE:20191103T020000
RDATE:20201101T020000
END:STANDARD
BEGIN:DAYLIGHT
TZNAME:EDT
DTSTART:20190310T020000
TZOFFSETFROM:-0500
TZOFFSETTO:-0400
RDATE:20200308T020000
RDATE:20210314T020000
END:DAYLIGHT
END:VTIMEZONE
BEGIN:VEVENT
UID:ea59ac6c-d4a8-4bd5-89af-685044320fff
DTSTAMP:20260421T213344Z
DESCRIPTION:Join us for a 'virtual' support group meeting!\nHD Room\, every
  Wednesday at 4:00 pm ET\nJoin from computer: https://PMDAlliance.zoom.us/
 j/769346544\nOr Telephone:\nDial: +1 408 638 0968 (US Toll) or +1 646 558 
 8656 (US Toll)\nMeeting ID: 769 346 544
DTSTART;TZID=America/New_York:20191031T160000
DTEND;TZID=America/New_York:20191031T170000
LOCATION:On-Line 'Virtual' Meeting
SUMMARY:See Me HD - A 'Virtual' Support Group Meeting
END:VEVENT
END:VCALENDAR
