BEGIN:VCALENDAR
VERSION:2.0
PRODID:-//www.hdreach.org//NONSGML kigkonsult.se iCalcreator 2.30.10//
CALSCALE:GREGORIAN
METHOD:PUBLISH
UID:06104284-fa04-400f-aea9-2d2b7184aa2e
X-WR-CALDESC:
X-WR-RELCALID:b8ef391e6a58862c35b370251d5203e9
X-WR-TIMEZONE:America/New_York
BEGIN:VTIMEZONE
TZID:America/New_York
BEGIN:STANDARD
TZNAME:EST
DTSTART:20181104T020000
TZOFFSETFROM:-0400
TZOFFSETTO:-0500
RDATE:20191103T020000
RDATE:20201101T020000
END:STANDARD
BEGIN:DAYLIGHT
TZNAME:EDT
DTSTART:20190310T020000
TZOFFSETFROM:-0500
TZOFFSETTO:-0400
RDATE:20200308T020000
RDATE:20210314T020000
END:DAYLIGHT
END:VTIMEZONE
BEGIN:VEVENT
UID:c9121258-123d-42d7-9537-35dd89784ad9
DTSTAMP:20260421T214203Z
DESCRIPTION:
DTSTART;TZID=America/New_York:20191027T110000
DTEND;TZID=America/New_York:20191027T160000
LOCATION:Grimsley High School\, 801 Westover Terrace\, Greensboro\, NC 2740
 8
SUMMARY:HDSA's Triad Team Hope Walk
END:VEVENT
END:VCALENDAR
