BEGIN:VCALENDAR
VERSION:2.0
PRODID:-//www.hdreach.org//NONSGML kigkonsult.se iCalcreator 2.30.10//
CALSCALE:GREGORIAN
METHOD:PUBLISH
UID:b0a342ec-7948-46ac-9346-8aa7b201fe5e
X-WR-CALDESC:
X-WR-RELCALID:c112ebff5b2741ecd7dfa61b3410c624
X-WR-TIMEZONE:America/New_York
BEGIN:VTIMEZONE
TZID:America/New_York
BEGIN:STANDARD
TZNAME:EST
DTSTART:20181104T020000
TZOFFSETFROM:-0400
TZOFFSETTO:-0500
RDATE:20191103T020000
RDATE:20201101T020000
END:STANDARD
BEGIN:DAYLIGHT
TZNAME:EDT
DTSTART:20190310T020000
TZOFFSETFROM:-0500
TZOFFSETTO:-0400
RDATE:20200308T020000
RDATE:20210314T020000
END:DAYLIGHT
END:VTIMEZONE
BEGIN:VEVENT
UID:8ece33bc-78e5-4e08-bab0-53c71316a7df
DTSTAMP:20260421T230810Z
DESCRIPTION:
DTSTART;TZID=America/New_York:20190919T190000
DTEND;TZID=America/New_York:20190919T203000
LOCATION:2409 Crabtree Blvd\, Ste 107\, Raleigh NC 27604
SUMMARY:Triangle HD Reach HDSA SG
END:VEVENT
END:VCALENDAR
