BEGIN:VCALENDAR
VERSION:2.0
PRODID:-//www.hdreach.org//NONSGML kigkonsult.se iCalcreator 2.30.10//
CALSCALE:GREGORIAN
METHOD:PUBLISH
UID:5cc02003-962f-4d20-a5ac-a419ac49e610
X-WR-CALDESC:Join us for a 'virtual' support group meeting!\nHD Room\, ever
 y Wednesday at 4:00 pm ET\nJoin from computer: https://PMDAlliance.zoom.us
 /j/769346544\nOr Telephone:\nDial: +1 408 638 0968 (US Toll) or +1 646 558
  8656 (US Toll)\nMeeting ID: 769 346 544
X-WR-RELCALID:8f397386ffb8fdc5377ea2e4220bd012
X-WR-TIMEZONE:America/New_York
BEGIN:VTIMEZONE
TZID:America/New_York
BEGIN:STANDARD
TZNAME:EST
DTSTART:20181104T020000
TZOFFSETFROM:-0400
TZOFFSETTO:-0500
RDATE:20191103T020000
RDATE:20201101T020000
END:STANDARD
BEGIN:DAYLIGHT
TZNAME:EDT
DTSTART:20190310T020000
TZOFFSETFROM:-0500
TZOFFSETTO:-0400
RDATE:20200308T020000
RDATE:20210314T020000
END:DAYLIGHT
END:VTIMEZONE
BEGIN:VEVENT
UID:e39e5be4-f34c-4576-802f-b941333466e0
DTSTAMP:20260421T231615Z
DESCRIPTION:Join us for a 'virtual' support group meeting!\nHD Room\, every
  Wednesday at 4:00 pm ET\nJoin from computer: https://PMDAlliance.zoom.us/
 j/769346544\nOr Telephone:\nDial: +1 408 638 0968 (US Toll) or +1 646 558 
 8656 (US Toll)\nMeeting ID: 769 346 544
DTSTART;TZID=America/New_York:20190918T160000
DTEND;TZID=America/New_York:20190918T170000
LOCATION:On-Line 'Virtual' Meeting
SUMMARY:See Me HD - A 'Virtual' Support Group Meeting
END:VEVENT
END:VCALENDAR
