BEGIN:VCALENDAR
VERSION:2.0
PRODID:-//www.hdreach.org//NONSGML kigkonsult.se iCalcreator 2.30.10//
CALSCALE:GREGORIAN
METHOD:PUBLISH
UID:3cd472d3-8038-474a-a00c-bb5a3e65f9f2
X-WR-CALDESC:
X-WR-RELCALID:56d817554afa36f2e3976aefdc44dd3f
X-WR-TIMEZONE:America/New_York
BEGIN:VTIMEZONE
TZID:America/New_York
BEGIN:STANDARD
TZNAME:EST
DTSTART:20181104T020000
TZOFFSETFROM:-0400
TZOFFSETTO:-0500
RDATE:20191103T020000
RDATE:20201101T020000
END:STANDARD
BEGIN:DAYLIGHT
TZNAME:EDT
DTSTART:20190310T020000
TZOFFSETFROM:-0500
TZOFFSETTO:-0400
RDATE:20200308T020000
RDATE:20210314T020000
END:DAYLIGHT
END:VTIMEZONE
BEGIN:VEVENT
UID:ce08dac5-0804-4548-8a72-6fe172f0640b
DTSTAMP:20260421T232301Z
DESCRIPTION:
DTSTART;TZID=America/New_York:20190914T090000
DTEND;TZID=America/New_York:20190914T160000
LOCATION:Seymour Center\, 2551 Homestead Rd\, Chapel Hill\, NC 27516
SUMMARY:HDSA NC Chapter Education Day
END:VEVENT
END:VCALENDAR
