BEGIN:VCALENDAR
VERSION:2.0
PRODID:-//www.hdreach.org//NONSGML kigkonsult.se iCalcreator 2.30.10//
CALSCALE:GREGORIAN
METHOD:PUBLISH
UID:9f8442b0-7567-4da5-9675-35b7b9ad461b
X-WR-CALDESC:
X-WR-RELCALID:d20f1da370755bf14854c7d5b3eac190
X-WR-TIMEZONE:America/New_York
BEGIN:VTIMEZONE
TZID:America/New_York
BEGIN:STANDARD
TZNAME:EST
DTSTART:20181104T020000
TZOFFSETFROM:-0400
TZOFFSETTO:-0500
RDATE:20191103T020000
RDATE:20201101T020000
END:STANDARD
BEGIN:DAYLIGHT
TZNAME:EDT
DTSTART:20190310T020000
TZOFFSETFROM:-0500
TZOFFSETTO:-0400
RDATE:20200308T020000
END:DAYLIGHT
END:VTIMEZONE
BEGIN:VEVENT
UID:512c3c82-6694-4f19-8adf-c4eb6baffeba
DTSTAMP:20260421T230412Z
DESCRIPTION:
DTSTART;TZID=America/New_York:20190903T153000
DTEND;TZID=America/New_York:20190903T173000
LOCATION:Winston-Salem Senior Services Center 231 Melrose Street Winston-Sa
 lem\, North Carolina
SUMMARY:Triad HD Reach HDSA SG
END:VEVENT
END:VCALENDAR
