BEGIN:VCALENDAR
VERSION:2.0
PRODID:-//www.hdreach.org//NONSGML kigkonsult.se iCalcreator 2.30.10//
CALSCALE:GREGORIAN
METHOD:PUBLISH
UID:75ea5f5b-c172-4823-9695-8e9d3e738a79
X-WR-CALDESC:
X-WR-RELCALID:ac9a2d62783fb8d35b57821510232535
X-WR-TIMEZONE:America/New_York
BEGIN:VTIMEZONE
TZID:America/New_York
BEGIN:STANDARD
TZNAME:EST
DTSTART:20181104T020000
TZOFFSETFROM:-0400
TZOFFSETTO:-0500
RDATE:20191103T020000
RDATE:20201101T020000
END:STANDARD
BEGIN:DAYLIGHT
TZNAME:EDT
DTSTART:20190310T020000
TZOFFSETFROM:-0500
TZOFFSETTO:-0400
RDATE:20200308T020000
END:DAYLIGHT
END:VTIMEZONE
BEGIN:VEVENT
UID:3072fedd-3cb0-4368-9fa2-bed753f44c44
DTSTAMP:20260422T003621Z
DESCRIPTION:
DTSTART;TZID=America/New_York:20190815T190000
DTEND;TZID=America/New_York:20190815T210000
LOCATION:HD Reach 1004 Dresser Court\, Conference Room Raleigh\, NC 27609
SUMMARY:Triangle HD Reach HDSA SG
END:VEVENT
END:VCALENDAR
