BEGIN:VCALENDAR
VERSION:2.0
PRODID:-//www.hdreach.org//NONSGML kigkonsult.se iCalcreator 2.30.10//
CALSCALE:GREGORIAN
METHOD:PUBLISH
UID:8fccf25b-64c6-476f-a7bd-27e6d2f118eb
X-WR-CALDESC:
X-WR-RELCALID:ba74ae6e7ed86c59ffff2b0a3f67fda6
X-WR-TIMEZONE:America/New_York
BEGIN:VTIMEZONE
TZID:America/New_York
BEGIN:STANDARD
TZNAME:EST
DTSTART:20181104T020000
TZOFFSETFROM:-0400
TZOFFSETTO:-0500
RDATE:20191103T020000
RDATE:20201101T020000
END:STANDARD
BEGIN:DAYLIGHT
TZNAME:EDT
DTSTART:20190310T020000
TZOFFSETFROM:-0500
TZOFFSETTO:-0400
RDATE:20200308T020000
END:DAYLIGHT
END:VTIMEZONE
BEGIN:VEVENT
UID:6d93c5c5-c480-4b9a-88c4-91adb841dad7
DTSTAMP:20260422T003258Z
DESCRIPTION:
DTSTART;TZID=America/New_York:20190802T183000
DTEND;TZID=America/New_York:20190802T220000
LOCATION:Bombshell Beer Company\, •	First Friday Fundraiser @ Bombshell Brew
 ing
SUMMARY:HDSA's •	First Friday Fundraiser @ Bombshell Brewing
END:VEVENT
END:VCALENDAR
