BEGIN:VCALENDAR
VERSION:2.0
PRODID:-//www.hdreach.org//NONSGML kigkonsult.se iCalcreator 2.30.10//
CALSCALE:GREGORIAN
METHOD:PUBLISH
UID:f912b074-c607-457b-af51-5839255b694d
X-WR-CALDESC:Connection & Support\nPlus key take-a-ways from the HDSA Conve
 ntion!\n\nJoin us for an evening of connection and support at the Charlott
 e Support Group. Katherine Sherry will share her important take-a-ways fro
 m the annual HDSA Convention in Boston. You'll have the chance to share yo
 ur thoughts\, challenges\, and words of wisdom with others just like you! 
 Our support groups send a message of hope for living well with HD. Come le
 arn\, share and be uplifted while helping others!\n\nRefreshments will be 
 provided.
X-WR-RELCALID:a01462b0e603f2ffc868b27402b26727
X-WR-TIMEZONE:America/New_York
BEGIN:VTIMEZONE
TZID:America/New_York
BEGIN:STANDARD
TZNAME:EST
DTSTART:20181104T020000
TZOFFSETFROM:-0400
TZOFFSETTO:-0500
RDATE:20191103T020000
RDATE:20201101T020000
END:STANDARD
BEGIN:DAYLIGHT
TZNAME:EDT
DTSTART:20190310T020000
TZOFFSETFROM:-0500
TZOFFSETTO:-0400
RDATE:20200308T020000
END:DAYLIGHT
END:VTIMEZONE
BEGIN:VEVENT
UID:6ea71dcf-3900-4dbd-a5ce-8420aade08fd
DTSTAMP:20260422T015623Z
DESCRIPTION:Connection & Support\nPlus key take-a-ways from the HDSA Conven
 tion!\n\nJoin us for an evening of connection and support at the Charlotte
  Support Group. Katherine Sherry will share her important take-a-ways from
  the annual HDSA Convention in Boston. You'll have the chance to share you
 r thoughts\, challenges\, and words of wisdom with others just like you! O
 ur support groups send a message of hope for living well with HD. Come lea
 rn\, share and be uplifted while helping others!\n\nRefreshments will be p
 rovided.
DTSTART;TZID=America/New_York:20190725T180000
DTEND;TZID=America/New_York:20190725T200000
LOCATION:Brighton Gardens of Charlotte\, 6000 Park South Drive\, Charlotte\
 , NC 28210
SUMMARY:Charlotte HD Reach HDSA SG
END:VEVENT
END:VCALENDAR
