BEGIN:VCALENDAR
VERSION:2.0
PRODID:-//www.hdreach.org//NONSGML kigkonsult.se iCalcreator 2.30.10//
CALSCALE:GREGORIAN
METHOD:PUBLISH
UID:b237bbca-3025-492c-bab8-5da5d60db94c
X-WR-CALDESC:
X-WR-RELCALID:c5313bffee893a2bb40a4dab1d890806
X-WR-TIMEZONE:America/New_York
BEGIN:VTIMEZONE
TZID:America/New_York
BEGIN:STANDARD
TZNAME:EST
DTSTART:20181104T020000
TZOFFSETFROM:-0400
TZOFFSETTO:-0500
RDATE:20191103T020000
RDATE:20201101T020000
END:STANDARD
BEGIN:DAYLIGHT
TZNAME:EDT
DTSTART:20190310T020000
TZOFFSETFROM:-0500
TZOFFSETTO:-0400
RDATE:20200308T020000
END:DAYLIGHT
END:VTIMEZONE
BEGIN:VEVENT
UID:65e0b50b-103c-4f07-97be-7bab5ae3783b
DTSTAMP:20260422T020025Z
DESCRIPTION:
DTSTART;TZID=America/New_York:20190715T000000
DTEND;TZID=America/New_York:20190715T235900
LOCATION:Bobshell Beer Company\, 120 Quantum Dr\, Holly Springs\, NC 27540
SUMMARY:HDSA's First Friday Fundraiser @ Bombshell Brewing
END:VEVENT
END:VCALENDAR
