BEGIN:VCALENDAR
VERSION:2.0
PRODID:-//www.hdreach.org//NONSGML kigkonsult.se iCalcreator 2.30.10//
CALSCALE:GREGORIAN
METHOD:PUBLISH
UID:c996b742-94e4-4007-8bd7-930726bd6699
X-WR-CALDESC:Navigating Grief & HD\nWith Special Guest Speaker Larry Dewalt
 \n\nJoin us the Charlotte Support Group for an evening of connection and s
 upport. Special guest speaker Larry Dewalt is a Chaplain from Hospice & Pa
 lliative Care Charlotte Region (HPCCR) who will provide insight on coping 
 strategies for when things feel out of control after a loss. You'll have t
 he chance to share your thoughts\, challenges\, and words of wisdom with o
 thers just like you!\nOur support groups send a message of hope for living
  well with HD. Come learn\, share and be uplifted while helping others!\n*
 Charlene Hudson will be facilitating this group! Katherine Sherry will be 
 out of town and will return for support group in July.*\n\nRefreshments wi
 ll be provided.\n
X-WR-RELCALID:123320203259a437fd8f00586f619476
X-WR-TIMEZONE:America/New_York
BEGIN:VTIMEZONE
TZID:America/New_York
BEGIN:STANDARD
TZNAME:EST
DTSTART:20181104T020000
TZOFFSETFROM:-0400
TZOFFSETTO:-0500
RDATE:20191103T020000
RDATE:20201101T020000
END:STANDARD
BEGIN:DAYLIGHT
TZNAME:EDT
DTSTART:20190310T020000
TZOFFSETFROM:-0500
TZOFFSETTO:-0400
RDATE:20200308T020000
END:DAYLIGHT
END:VTIMEZONE
BEGIN:VEVENT
UID:f947bf1c-8874-4a57-a957-592bea1750cb
DTSTAMP:20260422T032649Z
DESCRIPTION:Navigating Grief & HD\nWith Special Guest Speaker Larry Dewalt
 \n\nJoin us the Charlotte Support Group for an evening of connection and s
 upport. Special guest speaker Larry Dewalt is a Chaplain from Hospice & Pa
 lliative Care Charlotte Region (HPCCR) who will provide insight on coping 
 strategies for when things feel out of control after a loss. You'll have t
 he chance to share your thoughts\, challenges\, and words of wisdom with o
 thers just like you!\nOur support groups send a message of hope for living
  well with HD. Come learn\, share and be uplifted while helping others!\n*
 Charlene Hudson will be facilitating this group! Katherine Sherry will be 
 out of town and will return for support group in July.*\n\nRefreshments wi
 ll be provided.\n
DTSTART;TZID=America/New_York:20190627T180000
DTEND;TZID=America/New_York:20190627T200000
LOCATION:Brighton Gardens of Charlotte\, 6000 Park South Drive\, Charlotte\
 , NC 28210
SUMMARY:Charlotte HD Reach HDSA SG
END:VEVENT
END:VCALENDAR
