BEGIN:VCALENDAR
VERSION:2.0
PRODID:-//www.hdreach.org//NONSGML kigkonsult.se iCalcreator 2.30.10//
CALSCALE:GREGORIAN
METHOD:PUBLISH
UID:7122ff3a-12bf-4ba4-9321-5b49df453bc5
X-WR-CALDESC:Coping with Anxiety & HD\n\nJoin us the Charlotte Support Grou
 p for an evening of connection and support. We'll discuss coping strategie
 s for anxiety and new ways to respond to your thoughts and feelings. You'l
 l have the chance to share your thoughts\, challenges\, and words of wisdo
 m with others just like you!\n\nOur support groups send a message of hope 
 for living well with HD.  Come learn\, share and be uplifted while helping
  others!\n\nRefreshments will be provided.
X-WR-RELCALID:97cb1d2a88e2e412d300e490404d3048
X-WR-TIMEZONE:America/New_York
BEGIN:VTIMEZONE
TZID:America/New_York
BEGIN:STANDARD
TZNAME:EST
DTSTART:20181104T020000
TZOFFSETFROM:-0400
TZOFFSETTO:-0500
RDATE:20191103T020000
RDATE:20201101T020000
END:STANDARD
BEGIN:DAYLIGHT
TZNAME:EDT
DTSTART:20190310T020000
TZOFFSETFROM:-0500
TZOFFSETTO:-0400
RDATE:20200308T020000
END:DAYLIGHT
END:VTIMEZONE
BEGIN:VEVENT
UID:8c4b2306-fd35-47d6-b34f-debba86cc0ef
DTSTAMP:20260422T050704Z
DESCRIPTION:Coping with Anxiety & HD\n\nJoin us the Charlotte Support Group
  for an evening of connection and support. We'll discuss coping strategies
  for anxiety and new ways to respond to your thoughts and feelings. You'll
  have the chance to share your thoughts\, challenges\, and words of wisdom
  with others just like you!\n\nOur support groups send a message of hope f
 or living well with HD.  Come learn\, share and be uplifted while helping 
 others!\n\nRefreshments will be provided.
DTSTART;TZID=America/New_York:20190530T180000
DTEND;TZID=America/New_York:20190530T200000
LOCATION:Brighton Gardens of Charlotte\, 6000 Park South Drive\, Charlotte\
 , NC 28210
SUMMARY:Charlotte HD Reach HDSA SG
END:VEVENT
END:VCALENDAR
