BEGIN:VCALENDAR
VERSION:2.0
PRODID:-//www.hdreach.org//NONSGML kigkonsult.se iCalcreator 2.30.10//
CALSCALE:GREGORIAN
METHOD:PUBLISH
UID:3c04068b-b550-43b6-849e-0f411033d348
X-WR-CALDESC:Navigating Through the HD Experience\n\nJoin us for an evening
  of connection and support at the Triangle Support Group. You'll have the 
 chance to share your thoughts\, challenges\, and words of wisdom with othe
 rs just like you!\n\n Our support groups send a message of hope for living
  well with HD.  Come learn\, share and be uplifted while helping others!\n
 Refreshments will be provided.\n** This email is being sent to you again b
 ecause there was a typo in the prevous email. This notice is intended for 
 the Triangle Support Group! **
X-WR-RELCALID:54b4a4070db7c689a21b0eb59f0943bd
X-WR-TIMEZONE:America/New_York
BEGIN:VTIMEZONE
TZID:America/New_York
BEGIN:STANDARD
TZNAME:EST
DTSTART:20181104T020000
TZOFFSETFROM:-0400
TZOFFSETTO:-0500
RDATE:20191103T020000
RDATE:20201101T020000
END:STANDARD
BEGIN:DAYLIGHT
TZNAME:EDT
DTSTART:20190310T020000
TZOFFSETFROM:-0500
TZOFFSETTO:-0400
RDATE:20200308T020000
END:DAYLIGHT
END:VTIMEZONE
BEGIN:VEVENT
UID:bd5118e7-edb7-4905-be94-5b49ebc32436
DTSTAMP:20260422T050213Z
DESCRIPTION:Navigating Through the HD Experience\n\nJoin us for an evening 
 of connection and support at the Triangle Support Group. You'll have the c
 hance to share your thoughts\, challenges\, and words of wisdom with other
 s just like you!\n\n Our support groups send a message of hope for living 
 well with HD.  Come learn\, share and be uplifted while helping others!\nR
 efreshments will be provided.\n** This email is being sent to you again be
 cause there was a typo in the prevous email. This notice is intended for t
 he Triangle Support Group! **
DTSTART;TZID=America/New_York:20190516T190000
DTEND;TZID=America/New_York:20190516T210000
LOCATION:HD Reach 1004 Dresser Court\, Conference Room Raleigh\, NC 27609
SUMMARY:Triangle HD Reach HDSA SG
END:VEVENT
END:VCALENDAR
