BEGIN:VCALENDAR
VERSION:2.0
PRODID:-//www.hdreach.org//NONSGML kigkonsult.se iCalcreator 2.30.10//
CALSCALE:GREGORIAN
METHOD:PUBLISH
UID:a776aaf3-8c47-44fb-a628-7eb180f05d08
X-WR-CALDESC:Navigating Through the HD Experience\n\nJoin us for an afterno
 on of connection and support at the Wilmington Support Group. You'll have 
 the chance to share your thoughts\, challenges\, and words of wisdom with 
 others just like you.\n\n***Please note the location has changed to: NHRMC
  Orthopedic Hospital - South Meeting Room (3rd floor)\, 5301 Wrightsville 
 Ave\, Wilmington\, NC 28403!***\n\nOur support groups send a message of ho
 pe for living well with HD.  Come learn\, share and be uplifted while help
 ing others!\nRefreshments will be provided.\n\n
X-WR-RELCALID:ee9ca4e4f5bda74b134782a919a9f8d3
X-WR-TIMEZONE:America/New_York
BEGIN:VTIMEZONE
TZID:America/New_York
BEGIN:STANDARD
TZNAME:EST
DTSTART:20181104T020000
TZOFFSETFROM:-0400
TZOFFSETTO:-0500
RDATE:20191103T020000
RDATE:20201101T020000
END:STANDARD
BEGIN:DAYLIGHT
TZNAME:EDT
DTSTART:20190310T020000
TZOFFSETFROM:-0500
TZOFFSETTO:-0400
RDATE:20200308T020000
END:DAYLIGHT
END:VTIMEZONE
BEGIN:VEVENT
UID:069ab3e6-36bd-4ae4-adbe-771e98ce11b0
DTSTAMP:20260422T050458Z
DESCRIPTION:Navigating Through the HD Experience\n\nJoin us for an afternoo
 n of connection and support at the Wilmington Support Group. You'll have t
 he chance to share your thoughts\, challenges\, and words of wisdom with o
 thers just like you.\n\n***Please note the location has changed to: NHRMC 
 Orthopedic Hospital - South Meeting Room (3rd floor)\, 5301 Wrightsville A
 ve\, Wilmington\, NC 28403!***\n\nOur support groups send a message of hop
 e for living well with HD.  Come learn\, share and be uplifted while helpi
 ng others!\nRefreshments will be provided.\n\n
DTSTART;TZID=America/New_York:20190514T173000
DTEND;TZID=America/New_York:20190514T193000
LOCATION:NHRMC Orthopedic Hospital - South Meeting Room (3rd floor) 5301 Wr
 ightsville Ave\, Wilmington\, NC 28403
SUMMARY:Wilmington HD Reach Support Group
END:VEVENT
END:VCALENDAR
