BEGIN:VCALENDAR
VERSION:2.0
PRODID:-//www.hdreach.org//NONSGML kigkonsult.se iCalcreator 2.30.10//
CALSCALE:GREGORIAN
METHOD:PUBLISH
UID:749201b1-d1e2-42a1-9569-8ad9fce75458
X-WR-CALDESC:The Power of Support Groups! Plus a recap of the NC HD Educati
 on Day\n\nJoin us for an afternoon of connection and support at the Triad 
 Support Group. We'll discuss what it means to be a part of a support group
 \, and the potential benefits from participating in one. You'll have the c
 hance to share your thoughts\, challenges\, and words of wisdom with other
 s just like you! We will also do a recap of the 2019 Education Day - Reach
 ing Back\, Looking Forward. Click here to see videos of recorded sessions 
 and links to presentations! https://www.hdreach.org/past-events/2019-educa
 tion-day.html\n\nOur support groups send a message of hope for living well
  with HD.  Come learn\, share and be uplifted while helping others!
X-WR-RELCALID:965a66c29825714b9fd288e729c4a55d
X-WR-TIMEZONE:America/New_York
BEGIN:VTIMEZONE
TZID:America/New_York
BEGIN:STANDARD
TZNAME:EST
DTSTART:20181104T020000
TZOFFSETFROM:-0400
TZOFFSETTO:-0500
RDATE:20191103T020000
RDATE:20201101T020000
END:STANDARD
BEGIN:DAYLIGHT
TZNAME:EDT
DTSTART:20190310T020000
TZOFFSETFROM:-0500
TZOFFSETTO:-0400
RDATE:20200308T020000
END:DAYLIGHT
END:VTIMEZONE
BEGIN:VEVENT
UID:5ae52d1c-a78b-441b-aa70-1eb0f85235f6
DTSTAMP:20260422T050622Z
DESCRIPTION:The Power of Support Groups! Plus a recap of the NC HD Educatio
 n Day\n\nJoin us for an afternoon of connection and support at the Triad S
 upport Group. We'll discuss what it means to be a part of a support group\
 , and the potential benefits from participating in one. You'll have the ch
 ance to share your thoughts\, challenges\, and words of wisdom with others
  just like you! We will also do a recap of the 2019 Education Day - Reachi
 ng Back\, Looking Forward. Click here to see videos of recorded sessions a
 nd links to presentations! https://www.hdreach.org/past-events/2019-educat
 ion-day.html\n\nOur support groups send a message of hope for living well 
 with HD.  Come learn\, share and be uplifted while helping others!
DTSTART;TZID=America/New_York:20190507T153000
DTEND;TZID=America/New_York:20190507T173000
LOCATION:Winston-Salem Senior Services Center 231 Melrose Street Winston-Sa
 lem\, North Carolina
SUMMARY:Triad HD Reach HDSA SG
END:VEVENT
END:VCALENDAR
