BEGIN:VCALENDAR
VERSION:2.0
PRODID:-//www.hdreach.org//NONSGML kigkonsult.se iCalcreator 2.30.10//
CALSCALE:GREGORIAN
METHOD:PUBLISH
UID:81d9656d-0557-492a-93ba-3568c3134a92
X-WR-CALDESC:Dr. Craig Chepke! April Special Guest Speaker.\n\nJoin us the 
 Charlotte Support Group for special guest speaker Dr. Craig Chepke! Dr. Ch
 epke is a psychiatrist from Huntersville\, NC with a special interest in H
 untington's disease. He is also active in neuropsychiatric research\, serv
 ing as a principal investigator for clinical trials. You'll have the chanc
 e to ask questions from Dr. Chepke as well as share your thoughts\, challe
 nges\, and words of wisdom with others just like you! Our support groups s
 end a message of hope for living well with HD.  Come learn\, share and be 
 uplifted while helping others!\n\nRefreshments will be provided.
X-WR-RELCALID:c13cfb9824d8650a58ca0aacd65033d4
X-WR-TIMEZONE:America/New_York
BEGIN:VTIMEZONE
TZID:America/New_York
BEGIN:STANDARD
TZNAME:EST
DTSTART:20181104T020000
TZOFFSETFROM:-0400
TZOFFSETTO:-0500
RDATE:20191103T020000
END:STANDARD
BEGIN:DAYLIGHT
TZNAME:EDT
DTSTART:20190310T020000
TZOFFSETFROM:-0500
TZOFFSETTO:-0400
RDATE:20200308T020000
END:DAYLIGHT
END:VTIMEZONE
BEGIN:VEVENT
UID:a3689c63-fb66-4368-8118-d65320fab42d
DTSTAMP:20260422T064624Z
DESCRIPTION:Dr. Craig Chepke! April Special Guest Speaker.\n\nJoin us the C
 harlotte Support Group for special guest speaker Dr. Craig Chepke! Dr. Che
 pke is a psychiatrist from Huntersville\, NC with a special interest in Hu
 ntington's disease. He is also active in neuropsychiatric research\, servi
 ng as a principal investigator for clinical trials. You'll have the chance
  to ask questions from Dr. Chepke as well as share your thoughts\, challen
 ges\, and words of wisdom with others just like you! Our support groups se
 nd a message of hope for living well with HD.  Come learn\, share and be u
 plifted while helping others!\n\nRefreshments will be provided.
DTSTART;TZID=America/New_York:20190425T180000
DTEND;TZID=America/New_York:20190425T200000
LOCATION:Brighton Gardens of Charlotte\, 6000 Park South Drive\, Charlotte\
 , NC 28210
SUMMARY:Charlotte HD Reach HDSA SG
END:VEVENT
END:VCALENDAR
