BEGIN:VCALENDAR
VERSION:2.0
PRODID:-//www.hdreach.org//NONSGML kigkonsult.se iCalcreator 2.30.10//
CALSCALE:GREGORIAN
METHOD:PUBLISH
UID:a77636fd-f891-4659-b5ae-5abe4ed0bf04
X-WR-CALDESC:Join us for a 'virtual' support group meeting!\nHD Room\, ever
 y Wednesday at 4:00 pm ET\nJoin from computer: https://PMDAlliance.zoom.us
 /j/769346544\nOr Telephone:\nDial: +1 408 638 0968 (US Toll) or +1 646 558
  8656 (US Toll)\nMeeting ID: 769 346 544
X-WR-RELCALID:e4bf3b211b48b1192a7b94cdc538c0c8
X-WR-TIMEZONE:America/New_York
BEGIN:VTIMEZONE
TZID:America/New_York
BEGIN:STANDARD
TZNAME:EST
DTSTART:20181104T020000
TZOFFSETFROM:-0400
TZOFFSETTO:-0500
RDATE:20191103T020000
END:STANDARD
BEGIN:DAYLIGHT
TZNAME:EDT
DTSTART:20190310T020000
TZOFFSETFROM:-0500
TZOFFSETTO:-0400
RDATE:20200308T020000
END:DAYLIGHT
END:VTIMEZONE
BEGIN:VEVENT
UID:d263411c-faf2-4e5e-9800-ad7eff297318
DTSTAMP:20260422T064333Z
DESCRIPTION:Join us for a 'virtual' support group meeting!\nHD Room\, every
  Wednesday at 4:00 pm ET\nJoin from computer: https://PMDAlliance.zoom.us/
 j/769346544\nOr Telephone:\nDial: +1 408 638 0968 (US Toll) or +1 646 558 
 8656 (US Toll)\nMeeting ID: 769 346 544
DTSTART;TZID=America/New_York:20190424T160000
DTEND;TZID=America/New_York:20190424T170000
LOCATION:On-Line 'Virtual' Meeting
SUMMARY:See Me HD - A 'Virtual' Support Group Meeting
END:VEVENT
END:VCALENDAR
