BEGIN:VCALENDAR
VERSION:2.0
PRODID:-//www.hdreach.org//NONSGML kigkonsult.se iCalcreator 2.30.10//
CALSCALE:GREGORIAN
METHOD:PUBLISH
UID:058a4bbb-da6e-44b1-b17e-9532ebb9d850
X-WR-CALDESC:
X-WR-RELCALID:7c7f50917d80450fa439b4e172f27fd8
X-WR-TIMEZONE:America/New_York
BEGIN:VTIMEZONE
TZID:America/New_York
BEGIN:STANDARD
TZNAME:EST
DTSTART:20181104T020000
TZOFFSETFROM:-0400
TZOFFSETTO:-0500
RDATE:20191103T020000
END:STANDARD
BEGIN:DAYLIGHT
TZNAME:EDT
DTSTART:20190310T020000
TZOFFSETFROM:-0500
TZOFFSETTO:-0400
RDATE:20200308T020000
END:DAYLIGHT
END:VTIMEZONE
BEGIN:VEVENT
UID:68f92b9c-d2e0-4ad9-9c2b-ff462deb6818
DTSTAMP:20260422T064516Z
DESCRIPTION:
DTSTART;TZID=America/New_York:20190418T190000
DTEND;TZID=America/New_York:20190418T210000
LOCATION:HD Reach 1004 Dresser Court\, Conference Room Raleigh\, NC 27609
SUMMARY:Triangle HD Reach HDSA SG
END:VEVENT
END:VCALENDAR
