BEGIN:VCALENDAR
VERSION:2.0
PRODID:-//www.hdreach.org//NONSGML kigkonsult.se iCalcreator 2.30.10//
CALSCALE:GREGORIAN
METHOD:PUBLISH
UID:4a7c0fa3-4203-46e4-a0da-02b7effe05ec
X-WR-CALDESC:Huntington's Disease Support Group\nFor those diagnosed with o
 r at-risk for Huntington's disease and their carepartners.\n\nFor more inf
 ormation\, please contact:\nAllison Allen (Allison.m.allen@duke.edu) or Ka
 tie Durham (Katie.durham@duke.edu)\n\nComplimentary lunch served at 12pm\n
 \nPlease RSVP via this link:  https//www/surveymonkey.com/r/ZZ8G836\nRSVP 
 is requested five days prior to the group to ensure lunch availability for
  all.\nYou do not need to be a Duke patient to attend.
X-WR-RELCALID:c6cbc76b7fdbb3935fa5e2f89ca234be
X-WR-TIMEZONE:America/New_York
BEGIN:VTIMEZONE
TZID:America/New_York
BEGIN:STANDARD
TZNAME:EST
DTSTART:20181104T020000
TZOFFSETFROM:-0400
TZOFFSETTO:-0500
RDATE:20191103T020000
END:STANDARD
BEGIN:DAYLIGHT
TZNAME:EDT
DTSTART:20190310T020000
TZOFFSETFROM:-0500
TZOFFSETTO:-0400
RDATE:20200308T020000
END:DAYLIGHT
END:VTIMEZONE
BEGIN:VEVENT
UID:2dde2366-2008-47ec-a0c5-84c6449a6a16
DTSTAMP:20260422T064012Z
DESCRIPTION:Huntington's Disease Support Group\nFor those diagnosed with or
  at-risk for Huntington's disease and their carepartners.\n\nFor more info
 rmation\, please contact:\nAllison Allen (Allison.m.allen@duke.edu) or Kat
 ie Durham (Katie.durham@duke.edu)\n\nComplimentary lunch served at 12pm\n
 \nPlease RSVP via this link:  https//www/surveymonkey.com/r/ZZ8G836\nRSVP 
 is requested five days prior to the group to ensure lunch availability for
  all.\nYou do not need to be a Duke patient to attend.
DTSTART;TZID=America/New_York:20190417T103000
DTEND;TZID=America/New_York:20190417T123000
LOCATION:Duke Integrative Medicine\, 3475 Erwin Rd\, Durham\, NC  27705
SUMMARY:Huntington's Disease Support Group
END:VEVENT
END:VCALENDAR
