BEGIN:VCALENDAR
VERSION:2.0
PRODID:-//www.hdreach.org//NONSGML kigkonsult.se iCalcreator 2.30.10//
CALSCALE:GREGORIAN
METHOD:PUBLISH
UID:3db66a09-d438-4d90-a2d3-b01c40b7a108
X-WR-CALDESC:Welcoming People Into our HD Communities\n\n“One of the marvel
 ous things about community is that it enables us to welcome and help peopl
 e in a way we couldn't as individuals. When we pool our strength and share
  the work and responsibility\, we can welcome many people\, even those in 
 deep distress\, and perhaps help them find self-confidence and inner heali
 ng.”\n― Jean Vanier\, Community And Growth\n\nThis will be Ann's farewell 
 group and we will introduce Katherine Sherry as the new facilitator! We wi
 ll be meeting at the New Hanover county Public Library in The Pine Room. 
 \n\n***Please note the location has changed to the New Hanover Library - N
 ortheast Branch in the Pine Room!***\nOur support groups send a message of
  hope for living well with HD.  Come learn\, share and be uplifted while h
 elping others!\nRefreshments will be provided.
X-WR-RELCALID:973abd24c3b8527e3f7eab13cab2cebe
X-WR-TIMEZONE:America/New_York
BEGIN:VTIMEZONE
TZID:America/New_York
BEGIN:STANDARD
TZNAME:EST
DTSTART:20181104T020000
TZOFFSETFROM:-0400
TZOFFSETTO:-0500
RDATE:20191103T020000
END:STANDARD
BEGIN:DAYLIGHT
TZNAME:EDT
DTSTART:20190310T020000
TZOFFSETFROM:-0500
TZOFFSETTO:-0400
RDATE:20200308T020000
END:DAYLIGHT
END:VTIMEZONE
BEGIN:VEVENT
UID:ed5868f6-a8ff-4d82-a2bb-4166255977e6
DTSTAMP:20260422T064114Z
DESCRIPTION:Welcoming People Into our HD Communities\n\n“One of the marvelo
 us things about community is that it enables us to welcome and help people
  in a way we couldn't as individuals. When we pool our strength and share 
 the work and responsibility\, we can welcome many people\, even those in d
 eep distress\, and perhaps help them find self-confidence and inner healin
 g.”\n― Jean Vanier\, Community And Growth\n\nThis will be Ann's farewell g
 roup and we will introduce Katherine Sherry as the new facilitator! We wil
 l be meeting at the New Hanover county Public Library in The Pine Room. \n
 \n***Please note the location has changed to the New Hanover Library - Nor
 theast Branch in the Pine Room!***\nOur support groups send a message of h
 ope for living well with HD.  Come learn\, share and be uplifted while hel
 ping others!\nRefreshments will be provided.
DTSTART;TZID=America/New_York:20190409T173000
DTEND;TZID=America/New_York:20190409T193000
LOCATION:New Hanover County Public Library - Northeast Branch The Pine Room
  1241 Military Cutoff Rd\, Wilmington\, NC 28405
SUMMARY:Wilmington HD Reach Support Group
END:VEVENT
END:VCALENDAR
