BEGIN:VCALENDAR
VERSION:2.0
PRODID:-//www.hdreach.org//NONSGML kigkonsult.se iCalcreator 2.30.10//
CALSCALE:GREGORIAN
METHOD:PUBLISH
UID:29b5dcda-544f-4d66-97a4-9f56821aca2b
X-WR-CALDESC:The 2019 HD Reach Education Day will focus on a hope filled fu
 ture for living well with HD. Join us as we host our annual statewide Educ
 ation Day and celebrate our 10 year anniversary of serving HD families in 
 North Carolina!\n\nOur North Carolina HD experts\, Dr. Don Lo (Duke Neurob
 iology)\, Dr. Burton Scott (Duke Medical Center) and Dr. Francis Walker (W
 ake Forest Baptist Medical Center)\, will share the exciting and hopeful n
 ew advances in clinical research.    \n\nWe’ll have breakout sessions for 
 everyone in the HD community\, from those living with HD\, those at-risk f
 or the disease\, HD caregivers\, and youth. You won’t want to miss this ed
 ucational day packed with practical information.\n\nRegistration begins at
  8:30AM\, with the program starting at 9:30AM.\n\nThere is no charge to at
 tend this event.\n
X-WR-RELCALID:e1728063cb3608b3cba39f92f1bc6d08
X-WR-TIMEZONE:America/New_York
BEGIN:VTIMEZONE
TZID:America/New_York
BEGIN:STANDARD
TZNAME:EST
DTSTART:20181104T020000
TZOFFSETFROM:-0400
TZOFFSETTO:-0500
RDATE:20191103T020000
END:STANDARD
BEGIN:DAYLIGHT
TZNAME:EDT
DTSTART:20190310T020000
TZOFFSETFROM:-0500
TZOFFSETTO:-0400
RDATE:20200308T020000
END:DAYLIGHT
END:VTIMEZONE
BEGIN:VEVENT
UID:c587a932-abde-4d3d-953e-a03a07ef5486
DTSTAMP:20260422T064016Z
DESCRIPTION:The 2019 HD Reach Education Day will focus on a hope filled fut
 ure for living well with HD. Join us as we host our annual statewide Educa
 tion Day and celebrate our 10 year anniversary of serving HD families in N
 orth Carolina!\n\nOur North Carolina HD experts\, Dr. Don Lo (Duke Neurobi
 ology)\, Dr. Burton Scott (Duke Medical Center) and Dr. Francis Walker (Wa
 ke Forest Baptist Medical Center)\, will share the exciting and hopeful ne
 w advances in clinical research.    \n\nWe’ll have breakout sessions for e
 veryone in the HD community\, from those living with HD\, those at-risk fo
 r the disease\, HD caregivers\, and youth. You won’t want to miss this edu
 cational day packed with practical information.\n\nRegistration begins at 
 8:30AM\, with the program starting at 9:30AM.\n\nThere is no charge to att
 end this event.\n
DTSTART;TZID=America/New_York:20190406T093000
DTEND;TZID=America/New_York:20190406T160000
LOCATION:McKimmon Conference and Training Center\, NC State University\, 11
 01 Gorman Street\,  Raleigh\, NC  27606
SUMMARY:2019 NC HD Education Day
END:VEVENT
END:VCALENDAR
