BEGIN:VCALENDAR
VERSION:2.0
PRODID:-//www.hdreach.org//NONSGML kigkonsult.se iCalcreator 2.30.10//
CALSCALE:GREGORIAN
METHOD:PUBLISH
UID:dde67f74-95ad-465f-a228-8fd1418d0e6b
X-WR-CALDESC:WHEN\nSunday March 31\, 2019\n3:00-5:00pm (Registration begins
  at 2:30pm)\n\nWHAT\nA free throwing shooting competition for ALL AGES!  B
 ring a team of 4 or join a team as an individual shooter.  Compete in Elem
 entary\, Middle\, High School or Adult divisions.  Medals to all winning t
 eams!\n\nWHY\nTo raise awareness and support for those families affected b
 y Huntington's Disease in North Carolina.  Visit www.hdsa.org or www.north
 carolina.hdsa.org\n\nHOW\nRegister your team of 4 or your individual shoot
 er by contacting Peter Martinek-Jenne 336-268-0534 or martinp3@gcsnc.com\n
 \nFEATURING\nSgt. Swarm from the NBA G League Greensboro Swarm\, Food and 
 Drinks\, Great Music\, Free T-shirts\, Amazing Raffle Prizes
X-WR-RELCALID:735465b869a8b18784fd1f3034b1e168
X-WR-TIMEZONE:America/New_York
BEGIN:VTIMEZONE
TZID:America/New_York
BEGIN:STANDARD
TZNAME:EST
DTSTART:20181104T020000
TZOFFSETFROM:-0400
TZOFFSETTO:-0500
RDATE:20191103T020000
END:STANDARD
BEGIN:DAYLIGHT
TZNAME:EDT
DTSTART:20190310T020000
TZOFFSETFROM:-0500
TZOFFSETTO:-0400
RDATE:20200308T020000
END:DAYLIGHT
END:VTIMEZONE
BEGIN:VEVENT
UID:16d849f8-2ab6-4fe0-b78b-e709605a9f79
DTSTAMP:20260422T081804Z
DESCRIPTION:WHEN\nSunday March 31\, 2019\n3:00-5:00pm (Registration begins 
 at 2:30pm)\n\nWHAT\nA free throwing shooting competition for ALL AGES!  Br
 ing a team of 4 or join a team as an individual shooter.  Compete in Eleme
 ntary\, Middle\, High School or Adult divisions.  Medals to all winning te
 ams!\n\nWHY\nTo raise awareness and support for those families affected by
  Huntington's Disease in North Carolina.  Visit www.hdsa.org or www.northc
 arolina.hdsa.org\n\nHOW\nRegister your team of 4 or your individual shoote
 r by contacting Peter Martinek-Jenne 336-268-0534 or martinp3@gcsnc.com\n
 \nFEATURING\nSgt. Swarm from the NBA G League Greensboro Swarm\, Food and 
 Drinks\, Great Music\, Free T-shirts\, Amazing Raffle Prizes
DTSTART;TZID=America/New_York:20190331T150000
DTEND;TZID=America/New_York:20190331T170000
LOCATION:Grimsley High School Gymnasium\, 801 North Josephine Boyd St.\, Gr
 eensboro\, NC  27408
SUMMARY:Hoops 4 Hope
END:VEVENT
END:VCALENDAR
