BEGIN:VCALENDAR
VERSION:2.0
PRODID:-//www.hdreach.org//NONSGML kigkonsult.se iCalcreator 2.30.10//
CALSCALE:GREGORIAN
METHOD:PUBLISH
UID:6e407306-a7c6-448f-8526-787f68d6ed40
X-WR-CALDESC:Join us on Tuesday\, March 12 at 5:30 for the HD Reach Wilming
 ton Support Group. \n\nManaging change is important for everyone who is li
 ving with Huntington's disease\, whether you're a person with HD or you're
  a caregiver. We'll be talking about ways to manage change and the importa
 nce of routine.  We will be meeting at the New Hanover county Public Libra
 ry in The Wilmington Room. Ann will be live and in person and we will have
  a chance to connect and support each other! Our support groups send a mes
 sage of hope for living well with HD. Come learn\, share and be uplifted w
 hile helping others!\n\nRefreshments will be provided.\n\nNEW Meeting Loca
 tion\nNew Hanover County Public Library - The Wilmington Room\n201 Chesnut
  Street\nWilmington\, NC 28401
X-WR-RELCALID:d8c4e5b4c69a64a77cfd83eaee9c361b
X-WR-TIMEZONE:America/New_York
BEGIN:VTIMEZONE
TZID:America/New_York
BEGIN:STANDARD
TZNAME:EST
DTSTART:20181104T020000
TZOFFSETFROM:-0400
TZOFFSETTO:-0500
RDATE:20191103T020000
END:STANDARD
BEGIN:DAYLIGHT
TZNAME:EDT
DTSTART:20190310T020000
TZOFFSETFROM:-0500
TZOFFSETTO:-0400
RDATE:20200308T020000
END:DAYLIGHT
END:VTIMEZONE
BEGIN:VEVENT
UID:e36088e4-7cb1-46c2-9ca0-39c53135b9c2
DTSTAMP:20260422T081859Z
DESCRIPTION:Join us on Tuesday\, March 12 at 5:30 for the HD Reach Wilmingt
 on Support Group. \n\nManaging change is important for everyone who is liv
 ing with Huntington's disease\, whether you're a person with HD or you're 
 a caregiver. We'll be talking about ways to manage change and the importan
 ce of routine.  We will be meeting at the New Hanover county Public Librar
 y in The Wilmington Room. Ann will be live and in person and we will have 
 a chance to connect and support each other! Our support groups send a mess
 age of hope for living well with HD. Come learn\, share and be uplifted wh
 ile helping others!\n\nRefreshments will be provided.\n\nNEW Meeting Locat
 ion\nNew Hanover County Public Library - The Wilmington Room\n201 Chesnut 
 Street\nWilmington\, NC 28401
DTSTART;TZID=America/New_York:20190312T173000
DTEND;TZID=America/New_York:20190312T193000
LOCATION:New Hanover County Public Library - The Wilmington Room 201 Chesnu
 t Street Wilmington\, NC 28401
SUMMARY:Wilmington HD Reach Support Group
END:VEVENT
END:VCALENDAR
