BEGIN:VCALENDAR
VERSION:2.0
PRODID:-//www.hdreach.org//NONSGML kigkonsult.se iCalcreator 2.30.10//
CALSCALE:GREGORIAN
METHOD:PUBLISH
UID:fb99a4ca-357a-451f-bf51-050ea26a0d8b
X-WR-CALDESC:Demystifying Social Security Disability!\n\nFor this month we 
 will be learning about the process for approving and denying Social Secuti
 ty Disability claims.  Come get support\, ask your questions and feel conn
 ected to your larger community. \n\nRefreshments will be provided! Our sup
 port groups send a message of hope for living well with HD.  Come learn\, 
 share and be uplifted while helping others!
X-WR-RELCALID:9294a1f7c0186169c1b47248a7023e3b
X-WR-TIMEZONE:America/New_York
BEGIN:VTIMEZONE
TZID:America/New_York
BEGIN:STANDARD
TZNAME:EST
DTSTART:20181104T020000
TZOFFSETFROM:-0400
TZOFFSETTO:-0500
RDATE:20191103T020000
END:STANDARD
BEGIN:DAYLIGHT
TZNAME:EDT
DTSTART:20180311T020000
TZOFFSETFROM:-0500
TZOFFSETTO:-0400
RDATE:20190310T020000
RDATE:20200308T020000
END:DAYLIGHT
END:VTIMEZONE
BEGIN:VEVENT
UID:0caab32e-3206-4621-adaf-10b9796c4457
DTSTAMP:20260422T082627Z
DESCRIPTION:Demystifying Social Security Disability!\n\nFor this month we w
 ill be learning about the process for approving and denying Social Secutit
 y Disability claims.  Come get support\, ask your questions and feel conne
 cted to your larger community. \n\nRefreshments will be provided! Our supp
 ort groups send a message of hope for living well with HD.  Come learn\, s
 hare and be uplifted while helping others!
DTSTART;TZID=America/New_York:20190305T153000
DTEND;TZID=America/New_York:20190305T173000
LOCATION:Winston-Salem Senior Services Center 231 Melrose Street Winston-Sa
 lem\, North Carolina
SUMMARY:Triad HD Reach HDSA SG
END:VEVENT
END:VCALENDAR
