BEGIN:VCALENDAR
VERSION:2.0
PRODID:-//www.hdreach.org//NONSGML kigkonsult.se iCalcreator 2.30.10//
CALSCALE:GREGORIAN
METHOD:PUBLISH
UID:c24f9b4e-fc3d-44a5-87fe-cc9ac133c331
X-WR-CALDESC:Caring for the Caregiver\n\nThe challenges of caring for famil
 y members with HD can result in caregivers ignoring their own physical and
  emotional health. Join us as we discuss 'Caring for the Caregiver' where 
 we will examine self-care and ways to tend the mind\, body\, and soul. You
 'll have the chance to share your thoughts\, challenges\, and words of wis
 dom with others just like you!\nOur support groups send a message of hope 
 for living well with HD.  Come learn\, share and be uplifted while helping
  others!\n\nRefreshments will be provided.
X-WR-RELCALID:64d8bb152b85de9314cfe27ea4c930bc
X-WR-TIMEZONE:America/New_York
BEGIN:VTIMEZONE
TZID:America/New_York
BEGIN:STANDARD
TZNAME:EST
DTSTART:20181104T020000
TZOFFSETFROM:-0400
TZOFFSETTO:-0500
RDATE:20191103T020000
END:STANDARD
BEGIN:DAYLIGHT
TZNAME:EDT
DTSTART:20180311T020000
TZOFFSETFROM:-0500
TZOFFSETTO:-0400
RDATE:20190310T020000
RDATE:20200308T020000
END:DAYLIGHT
END:VTIMEZONE
BEGIN:VEVENT
UID:572be507-19b2-4d34-a7c2-34055b33796d
DTSTAMP:20260422T095443Z
DESCRIPTION:Caring for the Caregiver\n\nThe challenges of caring for family
  members with HD can result in caregivers ignoring their own physical and 
 emotional health. Join us as we discuss 'Caring for the Caregiver' where w
 e will examine self-care and ways to tend the mind\, body\, and soul. You'
 ll have the chance to share your thoughts\, challenges\, and words of wisd
 om with others just like you!\nOur support groups send a message of hope f
 or living well with HD.  Come learn\, share and be uplifted while helping 
 others!\n\nRefreshments will be provided.
DTSTART;TZID=America/New_York:20190228T180000
DTEND;TZID=America/New_York:20190228T200000
LOCATION:Brighton Gardens of Charlotte\, 6000 Park South Drive\, Charlotte\
 , NC 28210
SUMMARY:Charlotte HD Reach HDSA SG
END:VEVENT
END:VCALENDAR
