BEGIN:VCALENDAR
VERSION:2.0
PRODID:-//www.hdreach.org//NONSGML kigkonsult.se iCalcreator 2.30.10//
CALSCALE:GREGORIAN
METHOD:PUBLISH
UID:dacd0db6-9ff3-48b0-b1ee-29d916a413cd
X-WR-CALDESC:
X-WR-RELCALID:fe073dfdebc52e0ee6a08e9cd7675450
X-WR-TIMEZONE:America/New_York
BEGIN:VTIMEZONE
TZID:America/New_York
BEGIN:STANDARD
TZNAME:EST
DTSTART:20181104T020000
TZOFFSETFROM:-0400
TZOFFSETTO:-0500
RDATE:20191103T020000
END:STANDARD
BEGIN:DAYLIGHT
TZNAME:EDT
DTSTART:20180311T020000
TZOFFSETFROM:-0500
TZOFFSETTO:-0400
RDATE:20190310T020000
RDATE:20200308T020000
END:DAYLIGHT
END:VTIMEZONE
BEGIN:VEVENT
UID:a89db875-c4f2-4321-ad24-49851e531537
DTSTAMP:20260422T095147Z
DESCRIPTION:
DTSTART;TZID=America/New_York:20190221T190000
DTEND;TZID=America/New_York:20190221T210000
LOCATION:HD Reach 1004 Dresser Court\, Conference Room Raleigh\, NC 27609
SUMMARY:Triangle HD Reach HDSA SG
END:VEVENT
END:VCALENDAR
