BEGIN:VCALENDAR
VERSION:2.0
PRODID:-//www.hdreach.org//NONSGML kigkonsult.se iCalcreator 2.30.10//
CALSCALE:GREGORIAN
METHOD:PUBLISH
UID:a0d51aba-1ea3-4595-ae3c-5dc3b353e48d
X-WR-CALDESC:Join us for a 'virtual' support group meeting!\nHD Room\, ever
 y Thursday at 4:00 pm ET\nJoin from computer: https://PMDAlliance.zoom.us/
 j/769346544\nOr Telephone:\nDial: +1 408 638 0968 (US Toll) or +1 646 558 
 8656 (US Toll)\nMeeting ID: 769 346 544
X-WR-RELCALID:6853c0ed31473f89f99178ef1b6ffb61
X-WR-TIMEZONE:America/New_York
BEGIN:VTIMEZONE
TZID:America/New_York
BEGIN:STANDARD
TZNAME:EST
DTSTART:20181104T020000
TZOFFSETFROM:-0400
TZOFFSETTO:-0500
RDATE:20191103T020000
END:STANDARD
BEGIN:DAYLIGHT
TZNAME:EDT
DTSTART:20180311T020000
TZOFFSETFROM:-0500
TZOFFSETTO:-0400
RDATE:20190310T020000
RDATE:20200308T020000
END:DAYLIGHT
END:VTIMEZONE
BEGIN:VEVENT
UID:37785b41-c84d-4a98-b16c-a0a3e4e755cb
DTSTAMP:20260422T095811Z
DESCRIPTION:Join us for a 'virtual' support group meeting!\nHD Room\, every
  Thursday at 4:00 pm ET\nJoin from computer: https://PMDAlliance.zoom.us/j
 /769346544\nOr Telephone:\nDial: +1 408 638 0968 (US Toll) or +1 646 558 8
 656 (US Toll)\nMeeting ID: 769 346 544
DTSTART;TZID=America/New_York:20190221T160000
DTEND;TZID=America/New_York:20190221T170000
LOCATION:On-Line 'Virtual' Meeting
SUMMARY:See Me HD - A 'Virtual' Support Group Meeting
END:VEVENT
END:VCALENDAR
