BEGIN:VCALENDAR
VERSION:2.0
PRODID:-//www.hdreach.org//NONSGML kigkonsult.se iCalcreator 2.30.10//
CALSCALE:GREGORIAN
METHOD:PUBLISH
UID:2ded3450-d0a8-4eb2-98f2-9ad31c879114
X-WR-CALDESC:Join us for a 'virtual' support group meeting!\nHD Room\, ever
 y Thursday at 4:00 pm ET\nJoin from computer: https://PMDAlliance.zoom.us/
 j/769346544\nOr Telephone:\nDial: +1 408 638 0968 (US Toll) or +1 646 558 
 8656 (US Toll)\nMeeting ID: 769 346 544
X-WR-RELCALID:e3b92cb13417a4bcd017083d72e04acd
X-WR-TIMEZONE:America/New_York
BEGIN:VTIMEZONE
TZID:America/New_York
BEGIN:STANDARD
TZNAME:EST
DTSTART:20181104T020000
TZOFFSETFROM:-0400
TZOFFSETTO:-0500
RDATE:20191103T020000
END:STANDARD
BEGIN:DAYLIGHT
TZNAME:EDT
DTSTART:20180311T020000
TZOFFSETFROM:-0500
TZOFFSETTO:-0400
RDATE:20190310T020000
RDATE:20200308T020000
END:DAYLIGHT
END:VTIMEZONE
BEGIN:VEVENT
UID:c9c36686-26db-40d1-853d-175381797ba9
DTSTAMP:20260422T095357Z
DESCRIPTION:Join us for a 'virtual' support group meeting!\nHD Room\, every
  Thursday at 4:00 pm ET\nJoin from computer: https://PMDAlliance.zoom.us/j
 /769346544\nOr Telephone:\nDial: +1 408 638 0968 (US Toll) or +1 646 558 8
 656 (US Toll)\nMeeting ID: 769 346 544
DTSTART;TZID=America/New_York:20190214T160000
DTEND;TZID=America/New_York:20190214T170000
LOCATION:On-Line 'Virtual' Meeting
SUMMARY:See Me HD - A 'Virtual' Support Group Meeting
END:VEVENT
END:VCALENDAR
