BEGIN:VCALENDAR
VERSION:2.0
PRODID:-//www.hdreach.org//NONSGML kigkonsult.se iCalcreator 2.30.10//
CALSCALE:GREGORIAN
METHOD:PUBLISH
UID:e583cf98-06be-43ed-aaf6-99d74a0a5657
X-WR-CALDESC:Join us on Tuesday\, February 12 at 5:30 for the HD Reach Wilm
 ington Support Group.  We will try our meeting a new location at the New H
 anover County Public Library. Ann will be live and in person and we will h
 ave a chance to connect and support each other!  \n\nYou’ll have the chanc
 e to help others and be helped as we walk our HD journey. Refreshments wil
 l be provided.\nOur support groups send a message of hope for living well 
 with HD.  Come learn\, share and be uplifted while helping others!\n\nNEW 
 Meeting Location \nNew Hanover County Public Library - The Wilmington Room
 \n201 Chesnut Street\nWilmington\, NC 28401\n
X-WR-RELCALID:e1aa47e95441f01df3ff7fc8a15ca599
X-WR-TIMEZONE:America/New_York
BEGIN:VTIMEZONE
TZID:America/New_York
BEGIN:STANDARD
TZNAME:EST
DTSTART:20181104T020000
TZOFFSETFROM:-0400
TZOFFSETTO:-0500
RDATE:20191103T020000
END:STANDARD
BEGIN:DAYLIGHT
TZNAME:EDT
DTSTART:20180311T020000
TZOFFSETFROM:-0500
TZOFFSETTO:-0400
RDATE:20190310T020000
RDATE:20200308T020000
END:DAYLIGHT
END:VTIMEZONE
BEGIN:VEVENT
UID:3e5a4709-bb3d-49ac-90fd-d0c4ec33f8af
DTSTAMP:20260422T095317Z
DESCRIPTION:Join us on Tuesday\, February 12 at 5:30 for the HD Reach Wilmi
 ngton Support Group.  We will try our meeting a new location at the New Ha
 nover County Public Library. Ann will be live and in person and we will ha
 ve a chance to connect and support each other!  \n\nYou’ll have the chance
  to help others and be helped as we walk our HD journey. Refreshments will
  be provided.\nOur support groups send a message of hope for living well w
 ith HD.  Come learn\, share and be uplifted while helping others!\n\nNEW M
 eeting Location \nNew Hanover County Public Library - The Wilmington Room
 \n201 Chesnut Street\nWilmington\, NC 28401\n
DTSTART;TZID=America/New_York:20190212T173000
DTEND;TZID=America/New_York:20190212T193000
LOCATION:New Hanover County Public Library - The Wilmington Room 201 Chesnu
 t Street Wilmington\, NC 28401
SUMMARY:Wilmington HD Reach Support Group
END:VEVENT
END:VCALENDAR
