BEGIN:VCALENDAR
VERSION:2.0
PRODID:-//www.hdreach.org//NONSGML kigkonsult.se iCalcreator 2.30.10//
CALSCALE:GREGORIAN
METHOD:PUBLISH
UID:a98888e1-990d-426c-96ec-ac76312a66c9
X-WR-CALDESC:Demystifying Social Security Disability!\n\nFor this month we 
 will be learning about the process for approving and denying Social Secuti
 ty Disability claims.  Come get support\, ask your questions and feel conn
 ected to your larger community. Refreshments will be provided!\n\nOur supp
 ort groups send a message of hope for living well with HD.  Come learn\, s
 hare and be uplifted while helping others!  \n
X-WR-RELCALID:9307b0d91c610d3a1764ff8260fcc8c6
X-WR-TIMEZONE:America/New_York
BEGIN:VTIMEZONE
TZID:America/New_York
BEGIN:STANDARD
TZNAME:EST
DTSTART:20181104T020000
TZOFFSETFROM:-0400
TZOFFSETTO:-0500
RDATE:20191103T020000
END:STANDARD
BEGIN:DAYLIGHT
TZNAME:EDT
DTSTART:20180311T020000
TZOFFSETFROM:-0500
TZOFFSETTO:-0400
RDATE:20190310T020000
RDATE:20200308T020000
END:DAYLIGHT
END:VTIMEZONE
BEGIN:VEVENT
UID:6fa3f2fb-d270-4217-97e4-88b70ef62f4d
DTSTAMP:20260422T094938Z
DESCRIPTION:Demystifying Social Security Disability!\n\nFor this month we w
 ill be learning about the process for approving and denying Social Secutit
 y Disability claims.  Come get support\, ask your questions and feel conne
 cted to your larger community. Refreshments will be provided!\n\nOur suppo
 rt groups send a message of hope for living well with HD.  Come learn\, sh
 are and be uplifted while helping others!  \n
DTSTART;TZID=America/New_York:20190205T153000
DTEND;TZID=America/New_York:20190205T173000
LOCATION:Winston-Salem Senior Services Center 231 Melrose Street Winston-Sa
 lem\, North Carolina
SUMMARY:Triad HD Reach HDSA SG
END:VEVENT
END:VCALENDAR
