BEGIN:VCALENDAR
VERSION:2.0
PRODID:-//www.hdreach.org//NONSGML kigkonsult.se iCalcreator 2.30.10//
CALSCALE:GREGORIAN
METHOD:PUBLISH
UID:acaf3a05-4e4a-4da8-9668-3e0f1afd314a
X-WR-CALDESC:Huntington's Disease Support Group\nFor those diagnosed with o
 r at-risk for Huntington's disease and their carepartners.\n\nFor more inf
 ormation\, please contact:\nAllison Allen (Allison.m.allen@duke.edu) or Ka
 tie Durham (Katie.durham@duke.edu)\n\nPlease RSVP via this link:  https//w
 ww/surveymonkey.com/r/ZZ8G836\nRSVP is requested five days prior to the gr
 oup to ensure lunch availability for all.\nYou do not need to be a Duke pa
 tient to attend.\n\nComplimentary lunch served at 12pm
X-WR-RELCALID:f45665c6afea4bc48417282efc7ff7c1
X-WR-TIMEZONE:America/New_York
BEGIN:VTIMEZONE
TZID:America/New_York
BEGIN:STANDARD
TZNAME:EST
DTSTART:20181104T020000
TZOFFSETFROM:-0400
TZOFFSETTO:-0500
RDATE:20191103T020000
END:STANDARD
BEGIN:DAYLIGHT
TZNAME:EDT
DTSTART:20180311T020000
TZOFFSETFROM:-0500
TZOFFSETTO:-0400
RDATE:20190310T020000
RDATE:20200308T020000
END:DAYLIGHT
END:VTIMEZONE
BEGIN:VEVENT
UID:fdbab60c-0b7f-44b4-812e-7022c09526f0
DTSTAMP:20260422T112644Z
DESCRIPTION:Huntington's Disease Support Group\nFor those diagnosed with or
  at-risk for Huntington's disease and their carepartners.\n\nFor more info
 rmation\, please contact:\nAllison Allen (Allison.m.allen@duke.edu) or Kat
 ie Durham (Katie.durham@duke.edu)\n\nPlease RSVP via this link:  https//ww
 w/surveymonkey.com/r/ZZ8G836\nRSVP is requested five days prior to the gro
 up to ensure lunch availability for all.\nYou do not need to be a Duke pat
 ient to attend.\n\nComplimentary lunch served at 12pm
DTSTART;TZID=America/New_York:20190117T103000
DTEND;TZID=America/New_York:20190117T123000
LOCATION:Duke Integrative Medicine\, 3475 Erwin Rd\, Durham\, NC  27705
SUMMARY:Huntington's Disease Support Group
END:VEVENT
END:VCALENDAR
