BEGIN:VCALENDAR
VERSION:2.0
PRODID:-//www.hdreach.org//NONSGML kigkonsult.se iCalcreator 2.30.10//
CALSCALE:GREGORIAN
METHOD:PUBLISH
UID:3d3326e8-e9dc-411c-8f54-1e1edac33905
X-WR-CALDESC:
X-WR-RELCALID:6f24c9b4ecfdafc33de061885b6ddef4
X-WR-TIMEZONE:America/New_York
BEGIN:VTIMEZONE
TZID:America/New_York
BEGIN:STANDARD
TZNAME:EST
DTSTART:20181104T020000
TZOFFSETFROM:-0400
TZOFFSETTO:-0500
RDATE:20191103T020000
END:STANDARD
BEGIN:DAYLIGHT
TZNAME:EDT
DTSTART:20180311T020000
TZOFFSETFROM:-0500
TZOFFSETTO:-0400
RDATE:20190310T020000
RDATE:20200308T020000
END:DAYLIGHT
END:VTIMEZONE
BEGIN:VEVENT
UID:d05baf00-46c0-43fc-b9d9-d3b3fc85aacd
DTSTAMP:20260422T111856Z
DESCRIPTION:
DTSTART;TZID=America/New_York:20190117T190000
DTEND;TZID=America/New_York:20190117T210000
LOCATION:HD Reach 1004 Dresser Court\, Conference Room Raleigh\, NC 27609
SUMMARY:Triangle HD Reach HDSA SG
END:VEVENT
END:VCALENDAR
