BEGIN:VCALENDAR
VERSION:2.0
PRODID:-//www.hdreach.org//NONSGML kigkonsult.se iCalcreator 2.30.10//
CALSCALE:GREGORIAN
METHOD:PUBLISH
UID:87382c8d-aab9-4bf2-8b79-d48525e3d41d
X-WR-CALDESC:The HD Community is alive and well in Wilmington! Come join us
  for an evening of support. Our support groups send a message of hope for 
 living well with HD. Come learn\, share and be uplifted while helping othe
 rs! Refreshments will be provided.\n\nWe will meet in the Auxiliary Classr
 oom for Jan 8th which is downstairs next to the cafeteria.  You will need 
 to come in the main entrance\, go to the elevators to the ground floor\, t
 ake a left out of the elevator and then an immediate left past the vending
  machines and go into the cafeteria.  The classroom is on the left. \n\nSe
 e you there!\n
X-WR-RELCALID:07506fe04e7fd4e373a0dc6144301d9c
X-WR-TIMEZONE:America/New_York
BEGIN:VTIMEZONE
TZID:America/New_York
BEGIN:STANDARD
TZNAME:EST
DTSTART:20181104T020000
TZOFFSETFROM:-0400
TZOFFSETTO:-0500
RDATE:20191103T020000
END:STANDARD
BEGIN:DAYLIGHT
TZNAME:EDT
DTSTART:20180311T020000
TZOFFSETFROM:-0500
TZOFFSETTO:-0400
RDATE:20190310T020000
RDATE:20200308T020000
END:DAYLIGHT
END:VTIMEZONE
BEGIN:VEVENT
UID:e7642936-6e05-4d0b-86f6-5554fea360a4
DTSTAMP:20260422T112155Z
DESCRIPTION:The HD Community is alive and well in Wilmington! Come join us 
 for an evening of support. Our support groups send a message of hope for l
 iving well with HD. Come learn\, share and be uplifted while helping other
 s! Refreshments will be provided.\n\nWe will meet in the Auxiliary Classro
 om for Jan 8th which is downstairs next to the cafeteria.  You will need t
 o come in the main entrance\, go to the elevators to the ground floor\, ta
 ke a left out of the elevator and then an immediate left past the vending 
 machines and go into the cafeteria.  The classroom is on the left. \n\nSee
  you there!\n
DTSTART;TZID=America/New_York:20190108T183000
DTEND;TZID=America/New_York:20190108T203000
LOCATION:NHRMC  2131 S. 17th Street\,  Wilmington\, NC 28401 Auxilary Class
 room
SUMMARY:Wilmington HD Reach Support Group
END:VEVENT
END:VCALENDAR
