BEGIN:VCALENDAR
VERSION:2.0
PRODID:-//www.hdreach.org//NONSGML kigkonsult.se iCalcreator 2.30.10//
CALSCALE:GREGORIAN
METHOD:PUBLISH
UID:646fdb71-35a9-4c3c-89e4-eca6dfcccce7
X-WR-CALDESC:
X-WR-RELCALID:9998c9801f21314a7e748b61a3fc007e
X-WR-TIMEZONE:America/New_York
BEGIN:VTIMEZONE
TZID:America/New_York
BEGIN:STANDARD
TZNAME:EST
DTSTART:20181104T020000
TZOFFSETFROM:-0400
TZOFFSETTO:-0500
RDATE:20191103T020000
END:STANDARD
BEGIN:DAYLIGHT
TZNAME:EDT
DTSTART:20180311T020000
TZOFFSETFROM:-0500
TZOFFSETTO:-0400
RDATE:20190310T020000
RDATE:20200308T020000
END:DAYLIGHT
END:VTIMEZONE
BEGIN:VEVENT
UID:1b66478d-9162-4b29-b36b-c476d4f1c18e
DTSTAMP:20260422T112520Z
DESCRIPTION:
DTSTART;TZID=America/New_York:20190108T153000
DTEND;TZID=America/New_York:20190108T173000
LOCATION:Winston-Salem Senior Services Center 231 Melrose Street Winston-Sa
 lem\, North Carolina
SUMMARY:Triad HD Reach HDSA SG
END:VEVENT
END:VCALENDAR
