BEGIN:VCALENDAR
VERSION:2.0
PRODID:-//www.hdreach.org//NONSGML kigkonsult.se iCalcreator 2.30.10//
CALSCALE:GREGORIAN
METHOD:PUBLISH
UID:662456a5-a19a-4720-91c9-2b2800ed42ea
X-WR-CALDESC:Join Zoom Meeting\nhttps://us06web.zoom.us/j/83509170748?pwd=L
 oGJO7TxqlCZb5kraW4a2UPPzb3K2D.1\n\nMeeting ID: 835 0917 0748\nPasscode: 22
 8124\n\n---\n\nOne tap mobile\n+13092053325\,\,83509170748#\,\,\,\,*228124
 # US\n+13126266799\,\,83509170748#\,\,\,\,*228124# US (Chicago)\n\nJoin in
 structions\nhttps://us06web.zoom.us/meetings/83509170748/invitations?signa
 ture=XgDkiTCwGWanjZyKmxzxHg-VkBiQlFv3cOC5wTftbtU\n \n
X-WR-RELCALID:4fe8619ecbe0c6f2711532055da24bb7
X-WR-TIMEZONE:America/New_York
BEGIN:VTIMEZONE
TZID:America/New_York
BEGIN:STANDARD
TZNAME:EST
DTSTART:20261101T020000
TZOFFSETFROM:-0400
TZOFFSETTO:-0500
RDATE:20271107T020000
END:STANDARD
BEGIN:DAYLIGHT
TZNAME:EDT
DTSTART:20260308T020000
TZOFFSETFROM:-0500
TZOFFSETTO:-0400
RDATE:20270314T020000
RDATE:20280312T020000
END:DAYLIGHT
END:VTIMEZONE
BEGIN:VEVENT
UID:efc54955-88d5-4086-b9dd-4e3ce0e317a8
DTSTAMP:20260421T030838Z
DESCRIPTION:Join Zoom Meeting\nhttps://us06web.zoom.us/j/83509170748?pwd=Lo
 GJO7TxqlCZb5kraW4a2UPPzb3K2D.1\n\nMeeting ID: 835 0917 0748\nPasscode: 228
 124\n\n---\n\nOne tap mobile\n+13092053325\,\,83509170748#\,\,\,\,*228124#
  US\n+13126266799\,\,83509170748#\,\,\,\,*228124# US (Chicago)\n\nJoin ins
 tructions\nhttps://us06web.zoom.us/meetings/83509170748/invitations?signat
 ure=XgDkiTCwGWanjZyKmxzxHg-VkBiQlFv3cOC5wTftbtU\n \n
DTSTART;TZID=America/New_York:20261219T110000
DTEND;TZID=America/New_York:20261219T120000
LOCATION:https://us06web.zoom.us/j/83509170748?pwd=LoGJO7TxqlCZb5kraW4a2UPP
 zb3K2D.1
SUMMARY:Educational Speaker Hour
END:VEVENT
END:VCALENDAR
