BEGIN:VCALENDAR
VERSION:2.0
PRODID:-//www.hdreach.org//NONSGML kigkonsult.se iCalcreator 2.30.10//
CALSCALE:GREGORIAN
METHOD:PUBLISH
UID:00c37fd0-2ef3-4b8a-9718-f35c98146ec8
X-WR-CALDESC:The Charlotte Meet-up will fall on the 2nd Wednesday of every 
 month starting at 6:30pm. Come socialize\, learn\, and connect with others
  in the HD community. Please register if you can\, however walk-ins are we
 lcome.
X-WR-RELCALID:4758f757586f3e647bc01fbc934973c1
X-WR-TIMEZONE:America/New_York
BEGIN:VTIMEZONE
TZID:America/New_York
BEGIN:STANDARD
TZNAME:EST
DTSTART:20251102T020000
TZOFFSETFROM:-0400
TZOFFSETTO:-0500
RDATE:20261101T020000
RDATE:20271107T020000
END:STANDARD
BEGIN:DAYLIGHT
TZNAME:EDT
DTSTART:20260308T020000
TZOFFSETFROM:-0500
TZOFFSETTO:-0400
RDATE:20270314T020000
RDATE:20280312T020000
END:DAYLIGHT
END:VTIMEZONE
BEGIN:VEVENT
UID:4edf2a3d-7b48-44fd-84e0-006e7ce743f2
DTSTAMP:20260421T040952Z
DESCRIPTION:The Charlotte Meet-up will fall on the 2nd Wednesday of every m
 onth starting at 6:30pm. Come socialize\, learn\, and connect with others 
 in the HD community. Please register if you can\, however walk-ins are wel
 come.
DTSTART;TZID=America/New_York:20261014T183000
DTEND;TZID=America/New_York:20261014T200000
LOCATION:Birdsong Brewing Co.\, 1016 N Davidson St\, Charlotte\, NC 28206 U
 S
SUMMARY:Charlotte Meetup
END:VEVENT
END:VCALENDAR
