BEGIN:VCALENDAR
VERSION:2.0
PRODID:-//www.hdreach.org//NONSGML kigkonsult.se iCalcreator 2.30.10//
CALSCALE:GREGORIAN
METHOD:PUBLISH
UID:ecb3bb98-c8b2-4326-a438-cda145e59886
X-WR-CALDESC:The Wilmington In-person Meet-up will fall on the 2nd Tuesday 
 of every month starting at 6pm. Come socialize\, learn\, and connect with 
 others in the HD community. Please register if you can\, however walk-ins 
 are welcome.
X-WR-RELCALID:43163e601e053c5f0395417a0f4b83be
X-WR-TIMEZONE:America/New_York
BEGIN:VTIMEZONE
TZID:America/New_York
BEGIN:STANDARD
TZNAME:EST
DTSTART:20251102T020000
TZOFFSETFROM:-0400
TZOFFSETTO:-0500
RDATE:20261101T020000
RDATE:20271107T020000
END:STANDARD
BEGIN:DAYLIGHT
TZNAME:EDT
DTSTART:20260308T020000
TZOFFSETFROM:-0500
TZOFFSETTO:-0400
RDATE:20270314T020000
END:DAYLIGHT
END:VTIMEZONE
BEGIN:VEVENT
UID:cc23469d-fc46-487e-8b5b-d9cf0d994846
DTSTAMP:20260421T101705Z
DESCRIPTION:The Wilmington In-person Meet-up will fall on the 2nd Tuesday o
 f every month starting at 6pm. Come socialize\, learn\, and connect with o
 thers in the HD community. Please register if you can\, however walk-ins a
 re welcome.
DTSTART;TZID=America/New_York:20260714T180000
DTEND;TZID=America/New_York:20260714T200000
LOCATION:Mad Mole Brewing\, 6309 Boathouse Rd Unit C\, Wilmington\, NC 2840
 3 US
SUMMARY:Wilmington Meetup
END:VEVENT
END:VCALENDAR
