BEGIN:VCALENDAR
VERSION:2.0
PRODID:-//www.hdreach.org//NONSGML kigkonsult.se iCalcreator 2.30.10//
CALSCALE:GREGORIAN
METHOD:PUBLISH
UID:6118b61f-6422-45e1-9761-fd6470f700bd
X-WR-CALDESC:
X-WR-RELCALID:b53d126ec9431ed37aebb2cdbfc55cf2
X-WR-TIMEZONE:America/New_York
BEGIN:VTIMEZONE
TZID:America/New_York
BEGIN:STANDARD
TZNAME:EST
DTSTART:20251102T020000
TZOFFSETFROM:-0400
TZOFFSETTO:-0500
RDATE:20261101T020000
END:STANDARD
BEGIN:DAYLIGHT
TZNAME:EDT
DTSTART:20260308T020000
TZOFFSETFROM:-0500
TZOFFSETTO:-0400
RDATE:20270314T020000
END:DAYLIGHT
END:VTIMEZONE
BEGIN:VEVENT
UID:9610285c-1c77-45e9-b464-5a383e9cdc53
DTSTAMP:20260421T053913Z
DESCRIPTION:
DTSTART;TZID=America/New_York:20260418T090000
DTEND;TZID=America/New_York:20260418T160000
LOCATION:Kirk of Kildaire\, 200 High Meadow Drive\, Cary\, NC 27511 US
SUMMARY:Education Day
END:VEVENT
END:VCALENDAR
