BEGIN:VCALENDAR
VERSION:2.0
PRODID:-//www.hdreach.org//NONSGML kigkonsult.se iCalcreator 2.30.10//
CALSCALE:GREGORIAN
METHOD:PUBLISH
UID:0622b338-6bf8-4390-99a6-c47d4b65b323
X-WR-CALDESC:To Apply please visit the Game Over HD webpage to be added to 
 the Game Over HD “lobby” and you will receive further instructions from Er
 ika. We cannot wait to see you. https://www.hdreach.org/connect-resources/
 events/game-over-hd.html
X-WR-RELCALID:f8ed624149279affe455fddb00425cb9
X-WR-TIMEZONE:America/New_York
BEGIN:VTIMEZONE
TZID:America/New_York
BEGIN:STANDARD
TZNAME:EST
DTSTART:20251102T020000
TZOFFSETFROM:-0400
TZOFFSETTO:-0500
RDATE:20261101T020000
END:STANDARD
BEGIN:DAYLIGHT
TZNAME:EDT
DTSTART:20260308T020000
TZOFFSETFROM:-0500
TZOFFSETTO:-0400
RDATE:20270314T020000
END:DAYLIGHT
END:VTIMEZONE
BEGIN:VEVENT
UID:aeefe0df-f09d-4220-bf35-3f1c648b3709
DTSTAMP:20260421T054847Z
DESCRIPTION:To Apply please visit the Game Over HD webpage to be added to t
 he Game Over HD “lobby” and you will receive further instructions from Eri
 ka. We cannot wait to see you. https://www.hdreach.org/connect-resources/e
 vents/game-over-hd.html
DTSTART;TZID=America/New_York:20260415T190000
DTEND;TZID=America/New_York:20260415T200000
LOCATION:
SUMMARY:Game Over HD
END:VEVENT
END:VCALENDAR
