BEGIN:VCALENDAR
VERSION:2.0
PRODID:-//www.hdreach.org//NONSGML kigkonsult.se iCalcreator 2.30.10//
CALSCALE:GREGORIAN
METHOD:PUBLISH
UID:82e434ff-7a49-45e3-b07c-6bc56e84677f
X-WR-CALDESC:The Wilmington In-person Meet-up will fall on the 2nd Tuesday 
 of every month starting at 6pm. Come socialize\, learn\, and connect with 
 others in the HD community. Please register if you can\, however walk-ins 
 are welcome.
X-WR-RELCALID:8b522220b15a913a9e992230ecc7158e
X-WR-TIMEZONE:America/New_York
BEGIN:VTIMEZONE
TZID:America/New_York
BEGIN:STANDARD
TZNAME:EST
DTSTART:20251102T020000
TZOFFSETFROM:-0400
TZOFFSETTO:-0500
RDATE:20261101T020000
END:STANDARD
BEGIN:DAYLIGHT
TZNAME:EDT
DTSTART:20260308T020000
TZOFFSETFROM:-0500
TZOFFSETTO:-0400
RDATE:20270314T020000
END:DAYLIGHT
END:VTIMEZONE
BEGIN:VEVENT
UID:836caaa2-a8ef-4d8f-a2dc-bab9f9086651
DTSTAMP:20260421T055319Z
DESCRIPTION:The Wilmington In-person Meet-up will fall on the 2nd Tuesday o
 f every month starting at 6pm. Come socialize\, learn\, and connect with o
 thers in the HD community. Please register if you can\, however walk-ins a
 re welcome.
DTSTART;TZID=America/New_York:20260414T180000
DTEND;TZID=America/New_York:20260414T200000
LOCATION:Mad Mole Brewing\, 6309 Boathouse Rd Unit C\, Wilmington\, NC 2840
 3 US
SUMMARY:Wilmington Meetup
END:VEVENT
END:VCALENDAR
