BEGIN:VCALENDAR
VERSION:2.0
PRODID:-//www.hdreach.org//NONSGML kigkonsult.se iCalcreator 2.30.10//
CALSCALE:GREGORIAN
METHOD:PUBLISH
UID:c316555e-d214-4061-ade6-8861a85c5c55
X-WR-CALDESC:Join us for a free event! We’ll have pizza and drinks availabl
 e. If you have any dietary restrictions\, just let us know so we can plan 
 accordingly.\n\nRegister here: https://www.heylo.com/invite/5s77aMEc62\n\n
X-WR-RELCALID:f0bd236e6080c824f3e5034ed88aef25
X-WR-TIMEZONE:America/New_York
BEGIN:VTIMEZONE
TZID:America/New_York
BEGIN:STANDARD
TZNAME:EST
DTSTART:20251102T020000
TZOFFSETFROM:-0400
TZOFFSETTO:-0500
RDATE:20261101T020000
END:STANDARD
BEGIN:DAYLIGHT
TZNAME:EDT
DTSTART:20260308T020000
TZOFFSETFROM:-0500
TZOFFSETTO:-0400
RDATE:20270314T020000
END:DAYLIGHT
END:VTIMEZONE
BEGIN:VEVENT
UID:63ce2419-caaa-4a8f-8a41-274f9b495404
DTSTAMP:20260421T071713Z
DESCRIPTION:Join us for a free event! We’ll have pizza and drinks available
 . If you have any dietary restrictions\, just let us know so we can plan a
 ccordingly.\n\nRegister here: https://www.heylo.com/invite/5s77aMEc62\n\n
DTSTART;TZID=America/New_York:20260328T110000
DTEND;TZID=America/New_York:20260328T140000
LOCATION:Leicester Library - Leicester Meeting Room \, 1561 Alexander Rd\, 
 Leicester\, NC 28748 US
SUMMARY:Bridging Together Western NC
END:VEVENT
END:VCALENDAR
