BEGIN:VCALENDAR
VERSION:2.0
PRODID:-//www.hdreach.org//NONSGML kigkonsult.se iCalcreator 2.30.10//
CALSCALE:GREGORIAN
METHOD:PUBLISH
UID:662d88c9-ba35-46a8-a39a-0a55704b6a00
X-WR-CALDESC:
X-WR-RELCALID:e7d35e2f371b2058657d0fa865e1bd3d
X-WR-TIMEZONE:America/New_York
BEGIN:VTIMEZONE
TZID:America/New_York
BEGIN:STANDARD
TZNAME:EST
DTSTART:20251102T020000
TZOFFSETFROM:-0400
TZOFFSETTO:-0500
RDATE:20261101T020000
END:STANDARD
BEGIN:DAYLIGHT
TZNAME:EDT
DTSTART:20260308T020000
TZOFFSETFROM:-0500
TZOFFSETTO:-0400
RDATE:20270314T020000
END:DAYLIGHT
END:VTIMEZONE
BEGIN:VEVENT
UID:cb1e3bda-463e-4418-a1fc-69f6a7bd2730
DTSTAMP:20260421T072203Z
DESCRIPTION:
DTSTART;TZID=America/New_York:20260320T110000
DTEND;TZID=America/New_York:20260320T130000
LOCATION:Cin Cin Burger Bar\, 1425 W 1st St\, Winston-Salem\, NC 27101 US
SUMMARY:*CANCELLED* Winston-Salem Lunch Meet-up
END:VEVENT
END:VCALENDAR
